BEGIN:VCALENDAR
VERSION:2.0
PRODID:-//Tägi - Freizeit. Sport. Events. - ECPv6.15.17//NONSGML v1.0//EN
CALSCALE:GREGORIAN
METHOD:PUBLISH
X-ORIGINAL-URL:https://www.taegi.ch
X-WR-CALDESC:Veranstaltungen für Tägi - Freizeit. Sport. Events.
REFRESH-INTERVAL;VALUE=DURATION:PT1H
X-Robots-Tag:noindex
X-PUBLISHED-TTL:PT1H
BEGIN:VTIMEZONE
TZID:Europe/Zurich
BEGIN:DAYLIGHT
TZOFFSETFROM:+0100
TZOFFSETTO:+0200
TZNAME:CEST
DTSTART:20230326T010000
END:DAYLIGHT
BEGIN:STANDARD
TZOFFSETFROM:+0200
TZOFFSETTO:+0100
TZNAME:CET
DTSTART:20231029T010000
END:STANDARD
BEGIN:DAYLIGHT
TZOFFSETFROM:+0100
TZOFFSETTO:+0200
TZNAME:CEST
DTSTART:20240331T010000
END:DAYLIGHT
BEGIN:STANDARD
TZOFFSETFROM:+0200
TZOFFSETTO:+0100
TZNAME:CET
DTSTART:20241027T010000
END:STANDARD
BEGIN:DAYLIGHT
TZOFFSETFROM:+0100
TZOFFSETTO:+0200
TZNAME:CEST
DTSTART:20250330T010000
END:DAYLIGHT
BEGIN:STANDARD
TZOFFSETFROM:+0200
TZOFFSETTO:+0100
TZNAME:CET
DTSTART:20251026T010000
END:STANDARD
END:VTIMEZONE
BEGIN:VEVENT
DTSTART;TZID=Europe/Zurich:20240129T203000
DTEND;TZID=Europe/Zurich:20240129T213000
DTSTAMP:20260421T162106
CREATED:20231006T075501Z
LAST-MODIFIED:20231218T093735Z
UID:10000089-1706560200-1706563800@www.taegi.ch
SUMMARY:GF | Training Argovia Stars - Ladies
DESCRIPTION:Das gedeckte Eisfeld ist durch das Training besetzt.
URL:https://www.taegi.ch/veranstaltungen-kalender/gf-training-argovia-stars-ladies/2024-01-29/
LOCATION:Eisbahn\, Tägerhardstrasse 122\, Wettingen\, 5430\, Schweiz
CATEGORIES:Eisfeld
ATTACH;FMTTYPE=image/jpeg:https://www.taegi.ch/wp-content/uploads/Eisbahn_29.jpg
ORGANIZER;CN="T%C3%A4gi AG":MAILTO:info@taegi.ch
END:VEVENT
BEGIN:VEVENT
DTSTART;TZID=Europe/Zurich:20240130T164500
DTEND;TZID=Europe/Zurich:20240130T180000
DTSTAMP:20260421T162106
CREATED:20231006T075931Z
LAST-MODIFIED:20231110T120058Z
UID:10000112-1706633100-1706637600@www.taegi.ch
SUMMARY:GF | TRAINING Argovia Stars - U9
DESCRIPTION:Das gedeckte Eisfeld ist durch das Training besetzt.
URL:https://www.taegi.ch/veranstaltungen-kalender/gf-training-argovia-stars-u9/2024-01-30/
LOCATION:Eisbahn\, Tägerhardstrasse 122\, Wettingen\, 5430\, Schweiz
CATEGORIES:Eisfeld
ATTACH;FMTTYPE=image/jpeg:https://www.taegi.ch/wp-content/uploads/Eisbahn_29.jpg
ORGANIZER;CN="T%C3%A4gi AG":MAILTO:info@taegi.ch
END:VEVENT
BEGIN:VEVENT
DTSTART;TZID=Europe/Zurich:20240130T181500
DTEND;TZID=Europe/Zurich:20240130T201500
DTSTAMP:20260421T162106
CREATED:20231110T091325Z
LAST-MODIFIED:20231110T120146Z
UID:10000233-1706638500-1706645700@www.taegi.ch
SUMMARY:GF | TRAINING ECW
DESCRIPTION:Das gedeckte Eisfeld ist durch das Training besetzt.
URL:https://www.taegi.ch/veranstaltungen-kalender/gf-training-ecw/2024-01-30/
LOCATION:Eisbahn\, Tägerhardstrasse 122\, Wettingen\, 5430\, Schweiz
CATEGORIES:Eisfeld
ATTACH;FMTTYPE=image/jpeg:https://www.taegi.ch/wp-content/uploads/Eisbahn_47.jpg
ORGANIZER;CN="T%C3%A4gi AG":MAILTO:info@taegi.ch
END:VEVENT
BEGIN:VEVENT
DTSTART;TZID=Europe/Zurich:20240131T164500
DTEND;TZID=Europe/Zurich:20240131T174500
DTSTAMP:20260421T162106
CREATED:20231110T091740Z
LAST-MODIFIED:20231110T120014Z
UID:10000251-1706719500-1706723100@www.taegi.ch
SUMMARY:GF | TRAINING Argovia Stars - HOCKEYSCHULE
DESCRIPTION:Das gedeckte Eisfeld ist durch das Training besetzt.
URL:https://www.taegi.ch/veranstaltungen-kalender/gf-training-argovia-stars-hockeyschule/2024-01-31/
LOCATION:Eisbahn\, Tägerhardstrasse 122\, Wettingen\, 5430\, Schweiz
CATEGORIES:Eisfeld
ATTACH;FMTTYPE=image/jpeg:https://www.taegi.ch/wp-content/uploads/Eisbahn_29.jpg
ORGANIZER;CN="T%C3%A4gi AG":MAILTO:info@taegi.ch
END:VEVENT
BEGIN:VEVENT
DTSTART;TZID=Europe/Zurich:20240131T180000
DTEND;TZID=Europe/Zurich:20240131T191500
DTSTAMP:20260421T162106
CREATED:20231006T080444Z
LAST-MODIFIED:20231110T120232Z
UID:10000135-1706724000-1706728500@www.taegi.ch
SUMMARY:GF | Training Argovia Stars - U13/U11 Top
DESCRIPTION:Das gedeckte Eisfeld ist durch das Training besetzt.
URL:https://www.taegi.ch/veranstaltungen-kalender/gf-training-argovia-stars-u13-u11-aarau/2024-01-31/
LOCATION:Eisbahn\, Tägerhardstrasse 122\, Wettingen\, 5430\, Schweiz
CATEGORIES:Eisfeld
ATTACH;FMTTYPE=image/jpeg:https://www.taegi.ch/wp-content/uploads/Eisbahn_29.jpg
ORGANIZER;CN="T%C3%A4gi AG":MAILTO:info@taegi.ch
END:VEVENT
BEGIN:VEVENT
DTSTART;TZID=Europe/Zurich:20240131T204500
DTEND;TZID=Europe/Zurich:20240131T221500
DTSTAMP:20260421T162106
CREATED:20231006T083638Z
LAST-MODIFIED:20231110T094253Z
UID:10000157-1706733900-1706739300@www.taegi.ch
SUMMARY:GF | Training Argovia Stars Senioren
DESCRIPTION:Das gedeckte Eisfeld ist durch das Training besetzt.
URL:https://www.taegi.ch/veranstaltungen-kalender/gf-training-argovia-stars-senioren-2/2024-01-31/
LOCATION:Eisbahn\, Tägerhardstrasse 122\, Wettingen\, 5430\, Schweiz
CATEGORIES:Eisfeld
ATTACH;FMTTYPE=image/jpeg:https://www.taegi.ch/wp-content/uploads/Eisbahn_29.jpg
ORGANIZER;CN="T%C3%A4gi AG":MAILTO:info@taegi.ch
END:VEVENT
BEGIN:VEVENT
DTSTART;TZID=Europe/Zurich:20240201T164500
DTEND;TZID=Europe/Zurich:20240201T174500
DTSTAMP:20260421T162106
CREATED:20231006T083814Z
LAST-MODIFIED:20231006T083836Z
UID:10000179-1706805900-1706809500@www.taegi.ch
SUMMARY:GF | Training Argovia Stars U13/U11
DESCRIPTION:Das gedeckte Eisfeld ist durch das Training besetzt.
URL:https://www.taegi.ch/veranstaltungen-kalender/gf-training-argovia-stars-u13-u11-2/2024-02-01/
LOCATION:Eisbahn\, Tägerhardstrasse 122\, Wettingen\, 5430\, Schweiz
CATEGORIES:Eisfeld
ATTACH;FMTTYPE=image/jpeg:https://www.taegi.ch/wp-content/uploads/Eisbahn_29.jpg
ORGANIZER;CN="T%C3%A4gi AG":MAILTO:info@taegi.ch
END:VEVENT
BEGIN:VEVENT
DTSTART;TZID=Europe/Zurich:20240201T193000
DTEND;TZID=Europe/Zurich:20240201T204500
DTSTAMP:20260421T162106
CREATED:20231110T120527Z
LAST-MODIFIED:20231110T123622Z
UID:10000275-1706815800-1706820300@www.taegi.ch
SUMMARY:GF | TRAINING Argovia Stars - 3. Liga
DESCRIPTION:Das gedeckte Eisfeld ist durch das Training besetzt.
URL:https://www.taegi.ch/veranstaltungen-kalender/gf-training-argovia-stars-3-liga-3/2024-02-01/
LOCATION:Eisbahn\, Tägerhardstrasse 122\, Wettingen\, 5430\, Schweiz
CATEGORIES:Eisfeld
ATTACH;FMTTYPE=image/jpeg:https://www.taegi.ch/wp-content/uploads/Eisbahn_29.jpg
ORGANIZER;CN="T%C3%A4gi AG":MAILTO:info@taegi.ch
END:VEVENT
BEGIN:VEVENT
DTSTART;TZID=Europe/Zurich:20240201T204500
DTEND;TZID=Europe/Zurich:20240201T214500
DTSTAMP:20260421T162106
CREATED:20231006T084729Z
LAST-MODIFIED:20231006T084729Z
UID:10000201-1706820300-1706823900@www.taegi.ch
SUMMARY:GF | Training Argovia Stars Senioren
DESCRIPTION:Das gedeckte Eisfeld ist durch das Training besetzt.
URL:https://www.taegi.ch/veranstaltungen-kalender/gf-training-argovia-stars-senioren-3/2024-02-01/
LOCATION:Eisbahn\, Tägerhardstrasse 122\, Wettingen\, 5430\, Schweiz
CATEGORIES:Eisfeld
ATTACH;FMTTYPE=image/jpeg:https://www.taegi.ch/wp-content/uploads/Eisbahn_29.jpg
ORGANIZER;CN="T%C3%A4gi AG":MAILTO:info@taegi.ch
END:VEVENT
BEGIN:VEVENT
DTSTART;TZID=Europe/Zurich:20240203T090000
DTEND;TZID=Europe/Zurich:20240203T104500
DTSTAMP:20260421T162106
CREATED:20231005T132123Z
LAST-MODIFIED:20231031T071755Z
UID:10000066-1706950800-1706957100@www.taegi.ch
SUMMARY:GF | Chneble
DESCRIPTION:Auf dem überdachten Eisfeld findet das öffentliche „Chneble“ statt!
URL:https://www.taegi.ch/veranstaltungen-kalender/chneble/2024-02-03/
LOCATION:Eisbahn\, Tägerhardstrasse 122\, Wettingen\, 5430\, Schweiz
CATEGORIES:Chneble,Eisfeld
ATTACH;FMTTYPE=image/jpeg:https://www.taegi.ch/wp-content/uploads/Eisbahn_18.jpg
ORGANIZER;CN="T%C3%A4gi AG":MAILTO:info@taegi.ch
END:VEVENT
END:VCALENDAR