BEGIN:VCALENDAR
VERSION:2.0
PRODID:-//Tägi - Freizeit. Sport. Events. - ECPv6.15.17//NONSGML v1.0//EN
CALSCALE:GREGORIAN
METHOD:PUBLISH
X-ORIGINAL-URL:https://www.taegi.ch
X-WR-CALDESC:Veranstaltungen für Tägi - Freizeit. Sport. Events.
REFRESH-INTERVAL;VALUE=DURATION:PT1H
X-Robots-Tag:noindex
X-PUBLISHED-TTL:PT1H
BEGIN:VTIMEZONE
TZID:Europe/Zurich
BEGIN:DAYLIGHT
TZOFFSETFROM:+0100
TZOFFSETTO:+0200
TZNAME:CEST
DTSTART:20230326T010000
END:DAYLIGHT
BEGIN:STANDARD
TZOFFSETFROM:+0200
TZOFFSETTO:+0100
TZNAME:CET
DTSTART:20231029T010000
END:STANDARD
BEGIN:DAYLIGHT
TZOFFSETFROM:+0100
TZOFFSETTO:+0200
TZNAME:CEST
DTSTART:20240331T010000
END:DAYLIGHT
BEGIN:STANDARD
TZOFFSETFROM:+0200
TZOFFSETTO:+0100
TZNAME:CET
DTSTART:20241027T010000
END:STANDARD
BEGIN:DAYLIGHT
TZOFFSETFROM:+0100
TZOFFSETTO:+0200
TZNAME:CEST
DTSTART:20250330T010000
END:DAYLIGHT
BEGIN:STANDARD
TZOFFSETFROM:+0200
TZOFFSETTO:+0100
TZNAME:CET
DTSTART:20251026T010000
END:STANDARD
END:VTIMEZONE
BEGIN:VEVENT
DTSTART;TZID=Europe/Zurich:20240201T164500
DTEND;TZID=Europe/Zurich:20240201T174500
DTSTAMP:20260421T142920
CREATED:20231006T083814Z
LAST-MODIFIED:20231006T083836Z
UID:10000179-1706805900-1706809500@www.taegi.ch
SUMMARY:GF | Training Argovia Stars U13/U11
DESCRIPTION:Das gedeckte Eisfeld ist durch das Training besetzt.
URL:https://www.taegi.ch/veranstaltungen-kalender/gf-training-argovia-stars-u13-u11-2/2024-02-01/
LOCATION:Eisbahn\, Tägerhardstrasse 122\, Wettingen\, 5430\, Schweiz
CATEGORIES:Eisfeld
ATTACH;FMTTYPE=image/jpeg:https://www.taegi.ch/wp-content/uploads/Eisbahn_29.jpg
ORGANIZER;CN="T%C3%A4gi AG":MAILTO:info@taegi.ch
END:VEVENT
BEGIN:VEVENT
DTSTART;TZID=Europe/Zurich:20240201T193000
DTEND;TZID=Europe/Zurich:20240201T204500
DTSTAMP:20260421T142920
CREATED:20231110T120527Z
LAST-MODIFIED:20231110T123622Z
UID:10000275-1706815800-1706820300@www.taegi.ch
SUMMARY:GF | TRAINING Argovia Stars - 3. Liga
DESCRIPTION:Das gedeckte Eisfeld ist durch das Training besetzt.
URL:https://www.taegi.ch/veranstaltungen-kalender/gf-training-argovia-stars-3-liga-3/2024-02-01/
LOCATION:Eisbahn\, Tägerhardstrasse 122\, Wettingen\, 5430\, Schweiz
CATEGORIES:Eisfeld
ATTACH;FMTTYPE=image/jpeg:https://www.taegi.ch/wp-content/uploads/Eisbahn_29.jpg
ORGANIZER;CN="T%C3%A4gi AG":MAILTO:info@taegi.ch
END:VEVENT
BEGIN:VEVENT
DTSTART;TZID=Europe/Zurich:20240201T204500
DTEND;TZID=Europe/Zurich:20240201T214500
DTSTAMP:20260421T142920
CREATED:20231006T084729Z
LAST-MODIFIED:20231006T084729Z
UID:10000201-1706820300-1706823900@www.taegi.ch
SUMMARY:GF | Training Argovia Stars Senioren
DESCRIPTION:Das gedeckte Eisfeld ist durch das Training besetzt.
URL:https://www.taegi.ch/veranstaltungen-kalender/gf-training-argovia-stars-senioren-3/2024-02-01/
LOCATION:Eisbahn\, Tägerhardstrasse 122\, Wettingen\, 5430\, Schweiz
CATEGORIES:Eisfeld
ATTACH;FMTTYPE=image/jpeg:https://www.taegi.ch/wp-content/uploads/Eisbahn_29.jpg
ORGANIZER;CN="T%C3%A4gi AG":MAILTO:info@taegi.ch
END:VEVENT
BEGIN:VEVENT
DTSTART;TZID=Europe/Zurich:20240203T090000
DTEND;TZID=Europe/Zurich:20240203T104500
DTSTAMP:20260421T142920
CREATED:20231005T132123Z
LAST-MODIFIED:20231031T071755Z
UID:10000066-1706950800-1706957100@www.taegi.ch
SUMMARY:GF | Chneble
DESCRIPTION:Auf dem überdachten Eisfeld findet das öffentliche „Chneble“ statt!
URL:https://www.taegi.ch/veranstaltungen-kalender/chneble/2024-02-03/
LOCATION:Eisbahn\, Tägerhardstrasse 122\, Wettingen\, 5430\, Schweiz
CATEGORIES:Chneble,Eisfeld
ATTACH;FMTTYPE=image/jpeg:https://www.taegi.ch/wp-content/uploads/Eisbahn_18.jpg
ORGANIZER;CN="T%C3%A4gi AG":MAILTO:info@taegi.ch
END:VEVENT
BEGIN:VEVENT
DTSTART;TZID=Europe/Zurich:20240205T203000
DTEND;TZID=Europe/Zurich:20240205T213000
DTSTAMP:20260421T142920
CREATED:20231006T075501Z
LAST-MODIFIED:20231218T093735Z
UID:10000090-1707165000-1707168600@www.taegi.ch
SUMMARY:GF | Training Argovia Stars - Ladies
DESCRIPTION:Das gedeckte Eisfeld ist durch das Training besetzt.
URL:https://www.taegi.ch/veranstaltungen-kalender/gf-training-argovia-stars-ladies/2024-02-05/
LOCATION:Eisbahn\, Tägerhardstrasse 122\, Wettingen\, 5430\, Schweiz
CATEGORIES:Eisfeld
ATTACH;FMTTYPE=image/jpeg:https://www.taegi.ch/wp-content/uploads/Eisbahn_29.jpg
ORGANIZER;CN="T%C3%A4gi AG":MAILTO:info@taegi.ch
END:VEVENT
BEGIN:VEVENT
DTSTART;TZID=Europe/Zurich:20240206T164500
DTEND;TZID=Europe/Zurich:20240206T180000
DTSTAMP:20260421T142920
CREATED:20231006T075931Z
LAST-MODIFIED:20231110T120058Z
UID:10000113-1707237900-1707242400@www.taegi.ch
SUMMARY:GF | TRAINING Argovia Stars - U9
DESCRIPTION:Das gedeckte Eisfeld ist durch das Training besetzt.
URL:https://www.taegi.ch/veranstaltungen-kalender/gf-training-argovia-stars-u9/2024-02-06/
LOCATION:Eisbahn\, Tägerhardstrasse 122\, Wettingen\, 5430\, Schweiz
CATEGORIES:Eisfeld
ATTACH;FMTTYPE=image/jpeg:https://www.taegi.ch/wp-content/uploads/Eisbahn_29.jpg
ORGANIZER;CN="T%C3%A4gi AG":MAILTO:info@taegi.ch
END:VEVENT
BEGIN:VEVENT
DTSTART;TZID=Europe/Zurich:20240206T181500
DTEND;TZID=Europe/Zurich:20240206T201500
DTSTAMP:20260421T142920
CREATED:20231110T091325Z
LAST-MODIFIED:20231110T120146Z
UID:10000234-1707243300-1707250500@www.taegi.ch
SUMMARY:GF | TRAINING ECW
DESCRIPTION:Das gedeckte Eisfeld ist durch das Training besetzt.
URL:https://www.taegi.ch/veranstaltungen-kalender/gf-training-ecw/2024-02-06/
LOCATION:Eisbahn\, Tägerhardstrasse 122\, Wettingen\, 5430\, Schweiz
CATEGORIES:Eisfeld
ATTACH;FMTTYPE=image/jpeg:https://www.taegi.ch/wp-content/uploads/Eisbahn_47.jpg
ORGANIZER;CN="T%C3%A4gi AG":MAILTO:info@taegi.ch
END:VEVENT
BEGIN:VEVENT
DTSTART;TZID=Europe/Zurich:20240207T164500
DTEND;TZID=Europe/Zurich:20240207T174500
DTSTAMP:20260421T142920
CREATED:20231110T091740Z
LAST-MODIFIED:20231110T120014Z
UID:10000252-1707324300-1707327900@www.taegi.ch
SUMMARY:GF | TRAINING Argovia Stars - HOCKEYSCHULE
DESCRIPTION:Das gedeckte Eisfeld ist durch das Training besetzt.
URL:https://www.taegi.ch/veranstaltungen-kalender/gf-training-argovia-stars-hockeyschule/2024-02-07/
LOCATION:Eisbahn\, Tägerhardstrasse 122\, Wettingen\, 5430\, Schweiz
CATEGORIES:Eisfeld
ATTACH;FMTTYPE=image/jpeg:https://www.taegi.ch/wp-content/uploads/Eisbahn_29.jpg
ORGANIZER;CN="T%C3%A4gi AG":MAILTO:info@taegi.ch
END:VEVENT
BEGIN:VEVENT
DTSTART;TZID=Europe/Zurich:20240207T180000
DTEND;TZID=Europe/Zurich:20240207T191500
DTSTAMP:20260421T142920
CREATED:20231006T080444Z
LAST-MODIFIED:20231110T120232Z
UID:10000136-1707328800-1707333300@www.taegi.ch
SUMMARY:GF | Training Argovia Stars - U13/U11 Top
DESCRIPTION:Das gedeckte Eisfeld ist durch das Training besetzt.
URL:https://www.taegi.ch/veranstaltungen-kalender/gf-training-argovia-stars-u13-u11-aarau/2024-02-07/
LOCATION:Eisbahn\, Tägerhardstrasse 122\, Wettingen\, 5430\, Schweiz
CATEGORIES:Eisfeld
ATTACH;FMTTYPE=image/jpeg:https://www.taegi.ch/wp-content/uploads/Eisbahn_29.jpg
ORGANIZER;CN="T%C3%A4gi AG":MAILTO:info@taegi.ch
END:VEVENT
BEGIN:VEVENT
DTSTART;TZID=Europe/Zurich:20240207T204500
DTEND;TZID=Europe/Zurich:20240207T221500
DTSTAMP:20260421T142920
CREATED:20231006T083638Z
LAST-MODIFIED:20231110T094253Z
UID:10000158-1707338700-1707344100@www.taegi.ch
SUMMARY:GF | Training Argovia Stars Senioren
DESCRIPTION:Das gedeckte Eisfeld ist durch das Training besetzt.
URL:https://www.taegi.ch/veranstaltungen-kalender/gf-training-argovia-stars-senioren-2/2024-02-07/
LOCATION:Eisbahn\, Tägerhardstrasse 122\, Wettingen\, 5430\, Schweiz
CATEGORIES:Eisfeld
ATTACH;FMTTYPE=image/jpeg:https://www.taegi.ch/wp-content/uploads/Eisbahn_29.jpg
ORGANIZER;CN="T%C3%A4gi AG":MAILTO:info@taegi.ch
END:VEVENT
BEGIN:VEVENT
DTSTART;TZID=Europe/Zurich:20240208T164500
DTEND;TZID=Europe/Zurich:20240208T174500
DTSTAMP:20260421T142920
CREATED:20231006T083814Z
LAST-MODIFIED:20231006T083836Z
UID:10000180-1707410700-1707414300@www.taegi.ch
SUMMARY:GF | Training Argovia Stars U13/U11
DESCRIPTION:Das gedeckte Eisfeld ist durch das Training besetzt.
URL:https://www.taegi.ch/veranstaltungen-kalender/gf-training-argovia-stars-u13-u11-2/2024-02-08/
LOCATION:Eisbahn\, Tägerhardstrasse 122\, Wettingen\, 5430\, Schweiz
CATEGORIES:Eisfeld
ATTACH;FMTTYPE=image/jpeg:https://www.taegi.ch/wp-content/uploads/Eisbahn_29.jpg
ORGANIZER;CN="T%C3%A4gi AG":MAILTO:info@taegi.ch
END:VEVENT
BEGIN:VEVENT
DTSTART;TZID=Europe/Zurich:20240208T193000
DTEND;TZID=Europe/Zurich:20240208T204500
DTSTAMP:20260421T142920
CREATED:20231110T120527Z
LAST-MODIFIED:20231110T123622Z
UID:10000276-1707420600-1707425100@www.taegi.ch
SUMMARY:GF | TRAINING Argovia Stars - 3. Liga
DESCRIPTION:Das gedeckte Eisfeld ist durch das Training besetzt.
URL:https://www.taegi.ch/veranstaltungen-kalender/gf-training-argovia-stars-3-liga-3/2024-02-08/
LOCATION:Eisbahn\, Tägerhardstrasse 122\, Wettingen\, 5430\, Schweiz
CATEGORIES:Eisfeld
ATTACH;FMTTYPE=image/jpeg:https://www.taegi.ch/wp-content/uploads/Eisbahn_29.jpg
ORGANIZER;CN="T%C3%A4gi AG":MAILTO:info@taegi.ch
END:VEVENT
BEGIN:VEVENT
DTSTART;TZID=Europe/Zurich:20240208T204500
DTEND;TZID=Europe/Zurich:20240208T214500
DTSTAMP:20260421T142920
CREATED:20231006T084729Z
LAST-MODIFIED:20231006T084729Z
UID:10000202-1707425100-1707428700@www.taegi.ch
SUMMARY:GF | Training Argovia Stars Senioren
DESCRIPTION:Das gedeckte Eisfeld ist durch das Training besetzt.
URL:https://www.taegi.ch/veranstaltungen-kalender/gf-training-argovia-stars-senioren-3/2024-02-08/
LOCATION:Eisbahn\, Tägerhardstrasse 122\, Wettingen\, 5430\, Schweiz
CATEGORIES:Eisfeld
ATTACH;FMTTYPE=image/jpeg:https://www.taegi.ch/wp-content/uploads/Eisbahn_29.jpg
ORGANIZER;CN="T%C3%A4gi AG":MAILTO:info@taegi.ch
END:VEVENT
BEGIN:VEVENT
DTSTART;TZID=Europe/Zurich:20240210T160000
DTEND;TZID=Europe/Zurich:20240210T180000
DTSTAMP:20260421T142920
CREATED:20231110T130311Z
LAST-MODIFIED:20231110T130311Z
UID:10000284-1707580800-1707588000@www.taegi.ch
SUMMARY:GF | Chneble - 16.00-18.00
DESCRIPTION:Das gedeckte Eisfeld ist durch das Training besetzt.
URL:https://www.taegi.ch/veranstaltungen-kalender/gf-chneble-16-00-18-00-3/
LOCATION:Eisbahn\, Tägerhardstrasse 122\, Wettingen\, 5430\, Schweiz
CATEGORIES:Chneble,Eisfeld
ATTACH;FMTTYPE=image/jpeg:https://www.taegi.ch/wp-content/uploads/Eisbahn_18.jpg
ORGANIZER;CN="T%C3%A4gi AG":MAILTO:info@taegi.ch
END:VEVENT
BEGIN:VEVENT
DTSTART;TZID=Europe/Zurich:20240212T203000
DTEND;TZID=Europe/Zurich:20240212T213000
DTSTAMP:20260421T142920
CREATED:20231006T075501Z
LAST-MODIFIED:20231218T093735Z
UID:10000091-1707769800-1707773400@www.taegi.ch
SUMMARY:GF | Training Argovia Stars - Ladies
DESCRIPTION:Das gedeckte Eisfeld ist durch das Training besetzt.
URL:https://www.taegi.ch/veranstaltungen-kalender/gf-training-argovia-stars-ladies/2024-02-12/
LOCATION:Eisbahn\, Tägerhardstrasse 122\, Wettingen\, 5430\, Schweiz
CATEGORIES:Eisfeld
ATTACH;FMTTYPE=image/jpeg:https://www.taegi.ch/wp-content/uploads/Eisbahn_29.jpg
ORGANIZER;CN="T%C3%A4gi AG":MAILTO:info@taegi.ch
END:VEVENT
BEGIN:VEVENT
DTSTART;TZID=Europe/Zurich:20240213T164500
DTEND;TZID=Europe/Zurich:20240213T180000
DTSTAMP:20260421T142920
CREATED:20231006T075931Z
LAST-MODIFIED:20231110T120058Z
UID:10000114-1707842700-1707847200@www.taegi.ch
SUMMARY:GF | TRAINING Argovia Stars - U9
DESCRIPTION:Das gedeckte Eisfeld ist durch das Training besetzt.
URL:https://www.taegi.ch/veranstaltungen-kalender/gf-training-argovia-stars-u9/2024-02-13/
LOCATION:Eisbahn\, Tägerhardstrasse 122\, Wettingen\, 5430\, Schweiz
CATEGORIES:Eisfeld
ATTACH;FMTTYPE=image/jpeg:https://www.taegi.ch/wp-content/uploads/Eisbahn_29.jpg
ORGANIZER;CN="T%C3%A4gi AG":MAILTO:info@taegi.ch
END:VEVENT
BEGIN:VEVENT
DTSTART;TZID=Europe/Zurich:20240213T181500
DTEND;TZID=Europe/Zurich:20240213T201500
DTSTAMP:20260421T142920
CREATED:20231110T091325Z
LAST-MODIFIED:20231110T120146Z
UID:10000235-1707848100-1707855300@www.taegi.ch
SUMMARY:GF | TRAINING ECW
DESCRIPTION:Das gedeckte Eisfeld ist durch das Training besetzt.
URL:https://www.taegi.ch/veranstaltungen-kalender/gf-training-ecw/2024-02-13/
LOCATION:Eisbahn\, Tägerhardstrasse 122\, Wettingen\, 5430\, Schweiz
CATEGORIES:Eisfeld
ATTACH;FMTTYPE=image/jpeg:https://www.taegi.ch/wp-content/uploads/Eisbahn_47.jpg
ORGANIZER;CN="T%C3%A4gi AG":MAILTO:info@taegi.ch
END:VEVENT
BEGIN:VEVENT
DTSTART;TZID=Europe/Zurich:20240214T164500
DTEND;TZID=Europe/Zurich:20240214T174500
DTSTAMP:20260421T142920
CREATED:20231110T091740Z
LAST-MODIFIED:20231110T120014Z
UID:10000253-1707929100-1707932700@www.taegi.ch
SUMMARY:GF | TRAINING Argovia Stars - HOCKEYSCHULE
DESCRIPTION:Das gedeckte Eisfeld ist durch das Training besetzt.
URL:https://www.taegi.ch/veranstaltungen-kalender/gf-training-argovia-stars-hockeyschule/2024-02-14/
LOCATION:Eisbahn\, Tägerhardstrasse 122\, Wettingen\, 5430\, Schweiz
CATEGORIES:Eisfeld
ATTACH;FMTTYPE=image/jpeg:https://www.taegi.ch/wp-content/uploads/Eisbahn_29.jpg
ORGANIZER;CN="T%C3%A4gi AG":MAILTO:info@taegi.ch
END:VEVENT
BEGIN:VEVENT
DTSTART;TZID=Europe/Zurich:20240214T180000
DTEND;TZID=Europe/Zurich:20240214T191500
DTSTAMP:20260421T142920
CREATED:20231006T080444Z
LAST-MODIFIED:20231110T120232Z
UID:10000137-1707933600-1707938100@www.taegi.ch
SUMMARY:GF | Training Argovia Stars - U13/U11 Top
DESCRIPTION:Das gedeckte Eisfeld ist durch das Training besetzt.
URL:https://www.taegi.ch/veranstaltungen-kalender/gf-training-argovia-stars-u13-u11-aarau/2024-02-14/
LOCATION:Eisbahn\, Tägerhardstrasse 122\, Wettingen\, 5430\, Schweiz
CATEGORIES:Eisfeld
ATTACH;FMTTYPE=image/jpeg:https://www.taegi.ch/wp-content/uploads/Eisbahn_29.jpg
ORGANIZER;CN="T%C3%A4gi AG":MAILTO:info@taegi.ch
END:VEVENT
BEGIN:VEVENT
DTSTART;TZID=Europe/Zurich:20240214T204500
DTEND;TZID=Europe/Zurich:20240214T221500
DTSTAMP:20260421T142920
CREATED:20231006T083638Z
LAST-MODIFIED:20231110T094253Z
UID:10000159-1707943500-1707948900@www.taegi.ch
SUMMARY:GF | Training Argovia Stars Senioren
DESCRIPTION:Das gedeckte Eisfeld ist durch das Training besetzt.
URL:https://www.taegi.ch/veranstaltungen-kalender/gf-training-argovia-stars-senioren-2/2024-02-14/
LOCATION:Eisbahn\, Tägerhardstrasse 122\, Wettingen\, 5430\, Schweiz
CATEGORIES:Eisfeld
ATTACH;FMTTYPE=image/jpeg:https://www.taegi.ch/wp-content/uploads/Eisbahn_29.jpg
ORGANIZER;CN="T%C3%A4gi AG":MAILTO:info@taegi.ch
END:VEVENT
BEGIN:VEVENT
DTSTART;TZID=Europe/Zurich:20240215T164500
DTEND;TZID=Europe/Zurich:20240215T174500
DTSTAMP:20260421T142920
CREATED:20231006T083814Z
LAST-MODIFIED:20231006T083836Z
UID:10000181-1708015500-1708019100@www.taegi.ch
SUMMARY:GF | Training Argovia Stars U13/U11
DESCRIPTION:Das gedeckte Eisfeld ist durch das Training besetzt.
URL:https://www.taegi.ch/veranstaltungen-kalender/gf-training-argovia-stars-u13-u11-2/2024-02-15/
LOCATION:Eisbahn\, Tägerhardstrasse 122\, Wettingen\, 5430\, Schweiz
CATEGORIES:Eisfeld
ATTACH;FMTTYPE=image/jpeg:https://www.taegi.ch/wp-content/uploads/Eisbahn_29.jpg
ORGANIZER;CN="T%C3%A4gi AG":MAILTO:info@taegi.ch
END:VEVENT
BEGIN:VEVENT
DTSTART;TZID=Europe/Zurich:20240215T193000
DTEND;TZID=Europe/Zurich:20240215T204500
DTSTAMP:20260421T142920
CREATED:20231110T120527Z
LAST-MODIFIED:20231110T123622Z
UID:10000277-1708025400-1708029900@www.taegi.ch
SUMMARY:GF | TRAINING Argovia Stars - 3. Liga
DESCRIPTION:Das gedeckte Eisfeld ist durch das Training besetzt.
URL:https://www.taegi.ch/veranstaltungen-kalender/gf-training-argovia-stars-3-liga-3/2024-02-15/
LOCATION:Eisbahn\, Tägerhardstrasse 122\, Wettingen\, 5430\, Schweiz
CATEGORIES:Eisfeld
ATTACH;FMTTYPE=image/jpeg:https://www.taegi.ch/wp-content/uploads/Eisbahn_29.jpg
ORGANIZER;CN="T%C3%A4gi AG":MAILTO:info@taegi.ch
END:VEVENT
BEGIN:VEVENT
DTSTART;TZID=Europe/Zurich:20240215T204500
DTEND;TZID=Europe/Zurich:20240215T214500
DTSTAMP:20260421T142920
CREATED:20231006T084729Z
LAST-MODIFIED:20231006T084729Z
UID:10000203-1708029900-1708033500@www.taegi.ch
SUMMARY:GF | Training Argovia Stars Senioren
DESCRIPTION:Das gedeckte Eisfeld ist durch das Training besetzt.
URL:https://www.taegi.ch/veranstaltungen-kalender/gf-training-argovia-stars-senioren-3/2024-02-15/
LOCATION:Eisbahn\, Tägerhardstrasse 122\, Wettingen\, 5430\, Schweiz
CATEGORIES:Eisfeld
ATTACH;FMTTYPE=image/jpeg:https://www.taegi.ch/wp-content/uploads/Eisbahn_29.jpg
ORGANIZER;CN="T%C3%A4gi AG":MAILTO:info@taegi.ch
END:VEVENT
BEGIN:VEVENT
DTSTART;TZID=Europe/Zurich:20240217T160000
DTEND;TZID=Europe/Zurich:20240217T180000
DTSTAMP:20260421T142920
CREATED:20231110T130426Z
LAST-MODIFIED:20231110T130426Z
UID:10000285-1708185600-1708192800@www.taegi.ch
SUMMARY:GF | Chneble - 16.00-18.00
DESCRIPTION:Das gedeckte Eisfeld ist durch das Training besetzt.
URL:https://www.taegi.ch/veranstaltungen-kalender/gf-chneble-16-00-18-00-4/
LOCATION:Tägerhardstrasse 122\, Wettingen\, 5430\, Schweiz
CATEGORIES:Chneble,Eisfeld
ATTACH;FMTTYPE=image/jpeg:https://www.taegi.ch/wp-content/uploads/Eisbahn_18.jpg
END:VEVENT
BEGIN:VEVENT
DTSTART;TZID=Europe/Zurich:20240219T203000
DTEND;TZID=Europe/Zurich:20240219T213000
DTSTAMP:20260421T142920
CREATED:20231006T075501Z
LAST-MODIFIED:20231218T093735Z
UID:10000092-1708374600-1708378200@www.taegi.ch
SUMMARY:GF | Training Argovia Stars - Ladies
DESCRIPTION:Das gedeckte Eisfeld ist durch das Training besetzt.
URL:https://www.taegi.ch/veranstaltungen-kalender/gf-training-argovia-stars-ladies/2024-02-19/
LOCATION:Eisbahn\, Tägerhardstrasse 122\, Wettingen\, 5430\, Schweiz
CATEGORIES:Eisfeld
ATTACH;FMTTYPE=image/jpeg:https://www.taegi.ch/wp-content/uploads/Eisbahn_29.jpg
ORGANIZER;CN="T%C3%A4gi AG":MAILTO:info@taegi.ch
END:VEVENT
BEGIN:VEVENT
DTSTART;TZID=Europe/Zurich:20240220T164500
DTEND;TZID=Europe/Zurich:20240220T180000
DTSTAMP:20260421T142920
CREATED:20231006T075931Z
LAST-MODIFIED:20231110T120058Z
UID:10000115-1708447500-1708452000@www.taegi.ch
SUMMARY:GF | TRAINING Argovia Stars - U9
DESCRIPTION:Das gedeckte Eisfeld ist durch das Training besetzt.
URL:https://www.taegi.ch/veranstaltungen-kalender/gf-training-argovia-stars-u9/2024-02-20/
LOCATION:Eisbahn\, Tägerhardstrasse 122\, Wettingen\, 5430\, Schweiz
CATEGORIES:Eisfeld
ATTACH;FMTTYPE=image/jpeg:https://www.taegi.ch/wp-content/uploads/Eisbahn_29.jpg
ORGANIZER;CN="T%C3%A4gi AG":MAILTO:info@taegi.ch
END:VEVENT
BEGIN:VEVENT
DTSTART;TZID=Europe/Zurich:20240220T181500
DTEND;TZID=Europe/Zurich:20240220T201500
DTSTAMP:20260421T142920
CREATED:20231110T091325Z
LAST-MODIFIED:20231110T120146Z
UID:10000236-1708452900-1708460100@www.taegi.ch
SUMMARY:GF | TRAINING ECW
DESCRIPTION:Das gedeckte Eisfeld ist durch das Training besetzt.
URL:https://www.taegi.ch/veranstaltungen-kalender/gf-training-ecw/2024-02-20/
LOCATION:Eisbahn\, Tägerhardstrasse 122\, Wettingen\, 5430\, Schweiz
CATEGORIES:Eisfeld
ATTACH;FMTTYPE=image/jpeg:https://www.taegi.ch/wp-content/uploads/Eisbahn_47.jpg
ORGANIZER;CN="T%C3%A4gi AG":MAILTO:info@taegi.ch
END:VEVENT
BEGIN:VEVENT
DTSTART;TZID=Europe/Zurich:20240221T164500
DTEND;TZID=Europe/Zurich:20240221T174500
DTSTAMP:20260421T142920
CREATED:20231110T091740Z
LAST-MODIFIED:20231110T120014Z
UID:10000254-1708533900-1708537500@www.taegi.ch
SUMMARY:GF | TRAINING Argovia Stars - HOCKEYSCHULE
DESCRIPTION:Das gedeckte Eisfeld ist durch das Training besetzt.
URL:https://www.taegi.ch/veranstaltungen-kalender/gf-training-argovia-stars-hockeyschule/2024-02-21/
LOCATION:Eisbahn\, Tägerhardstrasse 122\, Wettingen\, 5430\, Schweiz
CATEGORIES:Eisfeld
ATTACH;FMTTYPE=image/jpeg:https://www.taegi.ch/wp-content/uploads/Eisbahn_29.jpg
ORGANIZER;CN="T%C3%A4gi AG":MAILTO:info@taegi.ch
END:VEVENT
BEGIN:VEVENT
DTSTART;TZID=Europe/Zurich:20240221T180000
DTEND;TZID=Europe/Zurich:20240221T191500
DTSTAMP:20260421T142920
CREATED:20231006T080444Z
LAST-MODIFIED:20231110T120232Z
UID:10000138-1708538400-1708542900@www.taegi.ch
SUMMARY:GF | Training Argovia Stars - U13/U11 Top
DESCRIPTION:Das gedeckte Eisfeld ist durch das Training besetzt.
URL:https://www.taegi.ch/veranstaltungen-kalender/gf-training-argovia-stars-u13-u11-aarau/2024-02-21/
LOCATION:Eisbahn\, Tägerhardstrasse 122\, Wettingen\, 5430\, Schweiz
CATEGORIES:Eisfeld
ATTACH;FMTTYPE=image/jpeg:https://www.taegi.ch/wp-content/uploads/Eisbahn_29.jpg
ORGANIZER;CN="T%C3%A4gi AG":MAILTO:info@taegi.ch
END:VEVENT
BEGIN:VEVENT
DTSTART;TZID=Europe/Zurich:20240221T204500
DTEND;TZID=Europe/Zurich:20240221T221500
DTSTAMP:20260421T142920
CREATED:20231006T083638Z
LAST-MODIFIED:20231110T094253Z
UID:10000160-1708548300-1708553700@www.taegi.ch
SUMMARY:GF | Training Argovia Stars Senioren
DESCRIPTION:Das gedeckte Eisfeld ist durch das Training besetzt.
URL:https://www.taegi.ch/veranstaltungen-kalender/gf-training-argovia-stars-senioren-2/2024-02-21/
LOCATION:Eisbahn\, Tägerhardstrasse 122\, Wettingen\, 5430\, Schweiz
CATEGORIES:Eisfeld
ATTACH;FMTTYPE=image/jpeg:https://www.taegi.ch/wp-content/uploads/Eisbahn_29.jpg
ORGANIZER;CN="T%C3%A4gi AG":MAILTO:info@taegi.ch
END:VEVENT
END:VCALENDAR