BEGIN:VCALENDAR
VERSION:2.0
PRODID:-//Tägi - Freizeit. Sport. Events. - ECPv6.15.17//NONSGML v1.0//EN
CALSCALE:GREGORIAN
METHOD:PUBLISH
X-WR-CALNAME:Tägi - Freizeit. Sport. Events.
X-ORIGINAL-URL:https://www.taegi.ch
X-WR-CALDESC:Veranstaltungen für Tägi - Freizeit. Sport. Events.
REFRESH-INTERVAL;VALUE=DURATION:PT1H
X-Robots-Tag:noindex
X-PUBLISHED-TTL:PT1H
BEGIN:VTIMEZONE
TZID:Europe/Zurich
BEGIN:DAYLIGHT
TZOFFSETFROM:+0100
TZOFFSETTO:+0200
TZNAME:CEST
DTSTART:20230326T010000
END:DAYLIGHT
BEGIN:STANDARD
TZOFFSETFROM:+0200
TZOFFSETTO:+0100
TZNAME:CET
DTSTART:20231029T010000
END:STANDARD
BEGIN:DAYLIGHT
TZOFFSETFROM:+0100
TZOFFSETTO:+0200
TZNAME:CEST
DTSTART:20240331T010000
END:DAYLIGHT
BEGIN:STANDARD
TZOFFSETFROM:+0200
TZOFFSETTO:+0100
TZNAME:CET
DTSTART:20241027T010000
END:STANDARD
BEGIN:DAYLIGHT
TZOFFSETFROM:+0100
TZOFFSETTO:+0200
TZNAME:CEST
DTSTART:20250330T010000
END:DAYLIGHT
BEGIN:STANDARD
TZOFFSETFROM:+0200
TZOFFSETTO:+0100
TZNAME:CET
DTSTART:20251026T010000
END:STANDARD
END:VTIMEZONE
BEGIN:VEVENT
DTSTART;TZID=Europe/Zurich:20240101T203000
DTEND;TZID=Europe/Zurich:20240101T213000
DTSTAMP:20260421T161938
CREATED:20231006T075501Z
LAST-MODIFIED:20231218T093735Z
UID:10000085-1704141000-1704144600@www.taegi.ch
SUMMARY:GF | Training Argovia Stars - Ladies
DESCRIPTION:Das gedeckte Eisfeld ist durch das Training besetzt.
URL:https://www.taegi.ch/veranstaltungen-kalender/gf-training-argovia-stars-ladies/2024-01-01/
LOCATION:Eisbahn\, Tägerhardstrasse 122\, Wettingen\, 5430\, Schweiz
CATEGORIES:Eisfeld
ATTACH;FMTTYPE=image/jpeg:https://www.taegi.ch/wp-content/uploads/Eisbahn_29.jpg
ORGANIZER;CN="T%C3%A4gi AG":MAILTO:info@taegi.ch
END:VEVENT
BEGIN:VEVENT
DTSTART;TZID=Europe/Zurich:20240102T164500
DTEND;TZID=Europe/Zurich:20240102T180000
DTSTAMP:20260421T161938
CREATED:20231006T075931Z
LAST-MODIFIED:20231110T120058Z
UID:10000108-1704213900-1704218400@www.taegi.ch
SUMMARY:GF | TRAINING Argovia Stars - U9
DESCRIPTION:Das gedeckte Eisfeld ist durch das Training besetzt.
URL:https://www.taegi.ch/veranstaltungen-kalender/gf-training-argovia-stars-u9/2024-01-02/
LOCATION:Eisbahn\, Tägerhardstrasse 122\, Wettingen\, 5430\, Schweiz
CATEGORIES:Eisfeld
ATTACH;FMTTYPE=image/jpeg:https://www.taegi.ch/wp-content/uploads/Eisbahn_29.jpg
ORGANIZER;CN="T%C3%A4gi AG":MAILTO:info@taegi.ch
END:VEVENT
BEGIN:VEVENT
DTSTART;TZID=Europe/Zurich:20240102T181500
DTEND;TZID=Europe/Zurich:20240102T201500
DTSTAMP:20260421T161938
CREATED:20231110T091325Z
LAST-MODIFIED:20231110T120146Z
UID:10000229-1704219300-1704226500@www.taegi.ch
SUMMARY:GF | TRAINING ECW
DESCRIPTION:Das gedeckte Eisfeld ist durch das Training besetzt.
URL:https://www.taegi.ch/veranstaltungen-kalender/gf-training-ecw/2024-01-02/
LOCATION:Eisbahn\, Tägerhardstrasse 122\, Wettingen\, 5430\, Schweiz
CATEGORIES:Eisfeld
ATTACH;FMTTYPE=image/jpeg:https://www.taegi.ch/wp-content/uploads/Eisbahn_47.jpg
ORGANIZER;CN="T%C3%A4gi AG":MAILTO:info@taegi.ch
END:VEVENT
BEGIN:VEVENT
DTSTART;TZID=Europe/Zurich:20240103T164500
DTEND;TZID=Europe/Zurich:20240103T174500
DTSTAMP:20260421T161938
CREATED:20231110T091740Z
LAST-MODIFIED:20231110T120014Z
UID:10000247-1704300300-1704303900@www.taegi.ch
SUMMARY:GF | TRAINING Argovia Stars - HOCKEYSCHULE
DESCRIPTION:Das gedeckte Eisfeld ist durch das Training besetzt.
URL:https://www.taegi.ch/veranstaltungen-kalender/gf-training-argovia-stars-hockeyschule/2024-01-03/
LOCATION:Eisbahn\, Tägerhardstrasse 122\, Wettingen\, 5430\, Schweiz
CATEGORIES:Eisfeld
ATTACH;FMTTYPE=image/jpeg:https://www.taegi.ch/wp-content/uploads/Eisbahn_29.jpg
ORGANIZER;CN="T%C3%A4gi AG":MAILTO:info@taegi.ch
END:VEVENT
BEGIN:VEVENT
DTSTART;TZID=Europe/Zurich:20240103T180000
DTEND;TZID=Europe/Zurich:20240103T191500
DTSTAMP:20260421T161938
CREATED:20231006T080444Z
LAST-MODIFIED:20231110T120232Z
UID:10000131-1704304800-1704309300@www.taegi.ch
SUMMARY:GF | Training Argovia Stars - U13/U11 Top
DESCRIPTION:Das gedeckte Eisfeld ist durch das Training besetzt.
URL:https://www.taegi.ch/veranstaltungen-kalender/gf-training-argovia-stars-u13-u11-aarau/2024-01-03/
LOCATION:Eisbahn\, Tägerhardstrasse 122\, Wettingen\, 5430\, Schweiz
CATEGORIES:Eisfeld
ATTACH;FMTTYPE=image/jpeg:https://www.taegi.ch/wp-content/uploads/Eisbahn_29.jpg
ORGANIZER;CN="T%C3%A4gi AG":MAILTO:info@taegi.ch
END:VEVENT
BEGIN:VEVENT
DTSTART;TZID=Europe/Zurich:20240103T204500
DTEND;TZID=Europe/Zurich:20240103T221500
DTSTAMP:20260421T161938
CREATED:20231006T083638Z
LAST-MODIFIED:20231110T094253Z
UID:10000153-1704314700-1704320100@www.taegi.ch
SUMMARY:GF | Training Argovia Stars Senioren
DESCRIPTION:Das gedeckte Eisfeld ist durch das Training besetzt.
URL:https://www.taegi.ch/veranstaltungen-kalender/gf-training-argovia-stars-senioren-2/2024-01-03/
LOCATION:Eisbahn\, Tägerhardstrasse 122\, Wettingen\, 5430\, Schweiz
CATEGORIES:Eisfeld
ATTACH;FMTTYPE=image/jpeg:https://www.taegi.ch/wp-content/uploads/Eisbahn_29.jpg
ORGANIZER;CN="T%C3%A4gi AG":MAILTO:info@taegi.ch
END:VEVENT
BEGIN:VEVENT
DTSTART;TZID=Europe/Zurich:20240104T164500
DTEND;TZID=Europe/Zurich:20240104T174500
DTSTAMP:20260421T161938
CREATED:20231006T083814Z
LAST-MODIFIED:20231006T083836Z
UID:10000175-1704386700-1704390300@www.taegi.ch
SUMMARY:GF | Training Argovia Stars U13/U11
DESCRIPTION:Das gedeckte Eisfeld ist durch das Training besetzt.
URL:https://www.taegi.ch/veranstaltungen-kalender/gf-training-argovia-stars-u13-u11-2/2024-01-04/
LOCATION:Eisbahn\, Tägerhardstrasse 122\, Wettingen\, 5430\, Schweiz
CATEGORIES:Eisfeld
ATTACH;FMTTYPE=image/jpeg:https://www.taegi.ch/wp-content/uploads/Eisbahn_29.jpg
ORGANIZER;CN="T%C3%A4gi AG":MAILTO:info@taegi.ch
END:VEVENT
BEGIN:VEVENT
DTSTART;TZID=Europe/Zurich:20240104T193000
DTEND;TZID=Europe/Zurich:20240104T204500
DTSTAMP:20260421T161938
CREATED:20231110T120527Z
LAST-MODIFIED:20231110T123622Z
UID:10000271-1704396600-1704401100@www.taegi.ch
SUMMARY:GF | TRAINING Argovia Stars - 3. Liga
DESCRIPTION:Das gedeckte Eisfeld ist durch das Training besetzt.
URL:https://www.taegi.ch/veranstaltungen-kalender/gf-training-argovia-stars-3-liga-3/2024-01-04/
LOCATION:Eisbahn\, Tägerhardstrasse 122\, Wettingen\, 5430\, Schweiz
CATEGORIES:Eisfeld
ATTACH;FMTTYPE=image/jpeg:https://www.taegi.ch/wp-content/uploads/Eisbahn_29.jpg
ORGANIZER;CN="T%C3%A4gi AG":MAILTO:info@taegi.ch
END:VEVENT
BEGIN:VEVENT
DTSTART;TZID=Europe/Zurich:20240104T204500
DTEND;TZID=Europe/Zurich:20240104T214500
DTSTAMP:20260421T161938
CREATED:20231006T084729Z
LAST-MODIFIED:20231006T084729Z
UID:10000197-1704401100-1704404700@www.taegi.ch
SUMMARY:GF | Training Argovia Stars Senioren
DESCRIPTION:Das gedeckte Eisfeld ist durch das Training besetzt.
URL:https://www.taegi.ch/veranstaltungen-kalender/gf-training-argovia-stars-senioren-3/2024-01-04/
LOCATION:Eisbahn\, Tägerhardstrasse 122\, Wettingen\, 5430\, Schweiz
CATEGORIES:Eisfeld
ATTACH;FMTTYPE=image/jpeg:https://www.taegi.ch/wp-content/uploads/Eisbahn_29.jpg
ORGANIZER;CN="T%C3%A4gi AG":MAILTO:info@taegi.ch
END:VEVENT
BEGIN:VEVENT
DTSTART;TZID=Europe/Zurich:20240106T091500
DTEND;TZID=Europe/Zurich:20240106T110000
DTSTAMP:20260421T161938
CREATED:20240102T162546Z
LAST-MODIFIED:20240102T162750Z
UID:10000313-1704532500-1704538800@www.taegi.ch
SUMMARY:GF I Chnebel - 9.15-11.00
DESCRIPTION:
URL:https://www.taegi.ch/veranstaltungen-kalender/chnebel-9-15-11-00/
LOCATION:Eisbahn\, Tägerhardstrasse 122\, Wettingen\, 5430\, Schweiz
CATEGORIES:Chneble,Eisfeld
ATTACH;FMTTYPE=image/jpeg:https://www.taegi.ch/wp-content/uploads/Eisbahn_18.jpg
END:VEVENT
BEGIN:VEVENT
DTSTART;TZID=Europe/Zurich:20240106T160000
DTEND;TZID=Europe/Zurich:20240106T180000
DTSTAMP:20260421T161938
CREATED:20231110T124834Z
LAST-MODIFIED:20231110T124904Z
UID:10000282-1704556800-1704564000@www.taegi.ch
SUMMARY:GF | Chneble - 16.00-18.00
DESCRIPTION:Das gedeckte Eisfeld ist durch das Training besetzt.
URL:https://www.taegi.ch/veranstaltungen-kalender/gf-chneble-16-00-18-00-2/
LOCATION:Eisbahn\, Tägerhardstrasse 122\, Wettingen\, 5430\, Schweiz
CATEGORIES:Eisfeld
ATTACH;FMTTYPE=image/jpeg:https://www.taegi.ch/wp-content/uploads/Eisbahn_18.jpg
END:VEVENT
BEGIN:VEVENT
DTSTART;TZID=Europe/Zurich:20240108T203000
DTEND;TZID=Europe/Zurich:20240108T213000
DTSTAMP:20260421T161938
CREATED:20231006T075501Z
LAST-MODIFIED:20231218T093735Z
UID:10000086-1704745800-1704749400@www.taegi.ch
SUMMARY:GF | Training Argovia Stars - Ladies
DESCRIPTION:Das gedeckte Eisfeld ist durch das Training besetzt.
URL:https://www.taegi.ch/veranstaltungen-kalender/gf-training-argovia-stars-ladies/2024-01-08/
LOCATION:Eisbahn\, Tägerhardstrasse 122\, Wettingen\, 5430\, Schweiz
CATEGORIES:Eisfeld
ATTACH;FMTTYPE=image/jpeg:https://www.taegi.ch/wp-content/uploads/Eisbahn_29.jpg
ORGANIZER;CN="T%C3%A4gi AG":MAILTO:info@taegi.ch
END:VEVENT
BEGIN:VEVENT
DTSTART;TZID=Europe/Zurich:20240109T164500
DTEND;TZID=Europe/Zurich:20240109T180000
DTSTAMP:20260421T161938
CREATED:20231006T075931Z
LAST-MODIFIED:20231110T120058Z
UID:10000109-1704818700-1704823200@www.taegi.ch
SUMMARY:GF | TRAINING Argovia Stars - U9
DESCRIPTION:Das gedeckte Eisfeld ist durch das Training besetzt.
URL:https://www.taegi.ch/veranstaltungen-kalender/gf-training-argovia-stars-u9/2024-01-09/
LOCATION:Eisbahn\, Tägerhardstrasse 122\, Wettingen\, 5430\, Schweiz
CATEGORIES:Eisfeld
ATTACH;FMTTYPE=image/jpeg:https://www.taegi.ch/wp-content/uploads/Eisbahn_29.jpg
ORGANIZER;CN="T%C3%A4gi AG":MAILTO:info@taegi.ch
END:VEVENT
BEGIN:VEVENT
DTSTART;TZID=Europe/Zurich:20240109T181500
DTEND;TZID=Europe/Zurich:20240109T201500
DTSTAMP:20260421T161938
CREATED:20231110T091325Z
LAST-MODIFIED:20231110T120146Z
UID:10000230-1704824100-1704831300@www.taegi.ch
SUMMARY:GF | TRAINING ECW
DESCRIPTION:Das gedeckte Eisfeld ist durch das Training besetzt.
URL:https://www.taegi.ch/veranstaltungen-kalender/gf-training-ecw/2024-01-09/
LOCATION:Eisbahn\, Tägerhardstrasse 122\, Wettingen\, 5430\, Schweiz
CATEGORIES:Eisfeld
ATTACH;FMTTYPE=image/jpeg:https://www.taegi.ch/wp-content/uploads/Eisbahn_47.jpg
ORGANIZER;CN="T%C3%A4gi AG":MAILTO:info@taegi.ch
END:VEVENT
BEGIN:VEVENT
DTSTART;TZID=Europe/Zurich:20240110T164500
DTEND;TZID=Europe/Zurich:20240110T174500
DTSTAMP:20260421T161938
CREATED:20231110T091740Z
LAST-MODIFIED:20231110T120014Z
UID:10000248-1704905100-1704908700@www.taegi.ch
SUMMARY:GF | TRAINING Argovia Stars - HOCKEYSCHULE
DESCRIPTION:Das gedeckte Eisfeld ist durch das Training besetzt.
URL:https://www.taegi.ch/veranstaltungen-kalender/gf-training-argovia-stars-hockeyschule/2024-01-10/
LOCATION:Eisbahn\, Tägerhardstrasse 122\, Wettingen\, 5430\, Schweiz
CATEGORIES:Eisfeld
ATTACH;FMTTYPE=image/jpeg:https://www.taegi.ch/wp-content/uploads/Eisbahn_29.jpg
ORGANIZER;CN="T%C3%A4gi AG":MAILTO:info@taegi.ch
END:VEVENT
BEGIN:VEVENT
DTSTART;TZID=Europe/Zurich:20240110T180000
DTEND;TZID=Europe/Zurich:20240110T191500
DTSTAMP:20260421T161938
CREATED:20231006T080444Z
LAST-MODIFIED:20231110T120232Z
UID:10000132-1704909600-1704914100@www.taegi.ch
SUMMARY:GF | Training Argovia Stars - U13/U11 Top
DESCRIPTION:Das gedeckte Eisfeld ist durch das Training besetzt.
URL:https://www.taegi.ch/veranstaltungen-kalender/gf-training-argovia-stars-u13-u11-aarau/2024-01-10/
LOCATION:Eisbahn\, Tägerhardstrasse 122\, Wettingen\, 5430\, Schweiz
CATEGORIES:Eisfeld
ATTACH;FMTTYPE=image/jpeg:https://www.taegi.ch/wp-content/uploads/Eisbahn_29.jpg
ORGANIZER;CN="T%C3%A4gi AG":MAILTO:info@taegi.ch
END:VEVENT
BEGIN:VEVENT
DTSTART;TZID=Europe/Zurich:20240110T204500
DTEND;TZID=Europe/Zurich:20240110T221500
DTSTAMP:20260421T161938
CREATED:20231006T083638Z
LAST-MODIFIED:20231110T094253Z
UID:10000154-1704919500-1704924900@www.taegi.ch
SUMMARY:GF | Training Argovia Stars Senioren
DESCRIPTION:Das gedeckte Eisfeld ist durch das Training besetzt.
URL:https://www.taegi.ch/veranstaltungen-kalender/gf-training-argovia-stars-senioren-2/2024-01-10/
LOCATION:Eisbahn\, Tägerhardstrasse 122\, Wettingen\, 5430\, Schweiz
CATEGORIES:Eisfeld
ATTACH;FMTTYPE=image/jpeg:https://www.taegi.ch/wp-content/uploads/Eisbahn_29.jpg
ORGANIZER;CN="T%C3%A4gi AG":MAILTO:info@taegi.ch
END:VEVENT
BEGIN:VEVENT
DTSTART;TZID=Europe/Zurich:20240111T164500
DTEND;TZID=Europe/Zurich:20240111T174500
DTSTAMP:20260421T161938
CREATED:20231006T083814Z
LAST-MODIFIED:20231006T083836Z
UID:10000176-1704991500-1704995100@www.taegi.ch
SUMMARY:GF | Training Argovia Stars U13/U11
DESCRIPTION:Das gedeckte Eisfeld ist durch das Training besetzt.
URL:https://www.taegi.ch/veranstaltungen-kalender/gf-training-argovia-stars-u13-u11-2/2024-01-11/
LOCATION:Eisbahn\, Tägerhardstrasse 122\, Wettingen\, 5430\, Schweiz
CATEGORIES:Eisfeld
ATTACH;FMTTYPE=image/jpeg:https://www.taegi.ch/wp-content/uploads/Eisbahn_29.jpg
ORGANIZER;CN="T%C3%A4gi AG":MAILTO:info@taegi.ch
END:VEVENT
BEGIN:VEVENT
DTSTART;TZID=Europe/Zurich:20240111T193000
DTEND;TZID=Europe/Zurich:20240111T204500
DTSTAMP:20260421T161938
CREATED:20231110T120527Z
LAST-MODIFIED:20231110T123622Z
UID:10000272-1705001400-1705005900@www.taegi.ch
SUMMARY:GF | TRAINING Argovia Stars - 3. Liga
DESCRIPTION:Das gedeckte Eisfeld ist durch das Training besetzt.
URL:https://www.taegi.ch/veranstaltungen-kalender/gf-training-argovia-stars-3-liga-3/2024-01-11/
LOCATION:Eisbahn\, Tägerhardstrasse 122\, Wettingen\, 5430\, Schweiz
CATEGORIES:Eisfeld
ATTACH;FMTTYPE=image/jpeg:https://www.taegi.ch/wp-content/uploads/Eisbahn_29.jpg
ORGANIZER;CN="T%C3%A4gi AG":MAILTO:info@taegi.ch
END:VEVENT
BEGIN:VEVENT
DTSTART;TZID=Europe/Zurich:20240111T204500
DTEND;TZID=Europe/Zurich:20240111T214500
DTSTAMP:20260421T161938
CREATED:20231006T084729Z
LAST-MODIFIED:20231006T084729Z
UID:10000198-1705005900-1705009500@www.taegi.ch
SUMMARY:GF | Training Argovia Stars Senioren
DESCRIPTION:Das gedeckte Eisfeld ist durch das Training besetzt.
URL:https://www.taegi.ch/veranstaltungen-kalender/gf-training-argovia-stars-senioren-3/2024-01-11/
LOCATION:Eisbahn\, Tägerhardstrasse 122\, Wettingen\, 5430\, Schweiz
CATEGORIES:Eisfeld
ATTACH;FMTTYPE=image/jpeg:https://www.taegi.ch/wp-content/uploads/Eisbahn_29.jpg
ORGANIZER;CN="T%C3%A4gi AG":MAILTO:info@taegi.ch
END:VEVENT
BEGIN:VEVENT
DTSTART;TZID=Europe/Zurich:20240115T203000
DTEND;TZID=Europe/Zurich:20240115T213000
DTSTAMP:20260421T161938
CREATED:20231006T075501Z
LAST-MODIFIED:20231218T093735Z
UID:10000087-1705350600-1705354200@www.taegi.ch
SUMMARY:GF | Training Argovia Stars - Ladies
DESCRIPTION:Das gedeckte Eisfeld ist durch das Training besetzt.
URL:https://www.taegi.ch/veranstaltungen-kalender/gf-training-argovia-stars-ladies/2024-01-15/
LOCATION:Eisbahn\, Tägerhardstrasse 122\, Wettingen\, 5430\, Schweiz
CATEGORIES:Eisfeld
ATTACH;FMTTYPE=image/jpeg:https://www.taegi.ch/wp-content/uploads/Eisbahn_29.jpg
ORGANIZER;CN="T%C3%A4gi AG":MAILTO:info@taegi.ch
END:VEVENT
BEGIN:VEVENT
DTSTART;TZID=Europe/Zurich:20240116T164500
DTEND;TZID=Europe/Zurich:20240116T180000
DTSTAMP:20260421T161938
CREATED:20231006T075931Z
LAST-MODIFIED:20231110T120058Z
UID:10000110-1705423500-1705428000@www.taegi.ch
SUMMARY:GF | TRAINING Argovia Stars - U9
DESCRIPTION:Das gedeckte Eisfeld ist durch das Training besetzt.
URL:https://www.taegi.ch/veranstaltungen-kalender/gf-training-argovia-stars-u9/2024-01-16/
LOCATION:Eisbahn\, Tägerhardstrasse 122\, Wettingen\, 5430\, Schweiz
CATEGORIES:Eisfeld
ATTACH;FMTTYPE=image/jpeg:https://www.taegi.ch/wp-content/uploads/Eisbahn_29.jpg
ORGANIZER;CN="T%C3%A4gi AG":MAILTO:info@taegi.ch
END:VEVENT
BEGIN:VEVENT
DTSTART;TZID=Europe/Zurich:20240116T181500
DTEND;TZID=Europe/Zurich:20240116T201500
DTSTAMP:20260421T161938
CREATED:20231110T091325Z
LAST-MODIFIED:20231110T120146Z
UID:10000231-1705428900-1705436100@www.taegi.ch
SUMMARY:GF | TRAINING ECW
DESCRIPTION:Das gedeckte Eisfeld ist durch das Training besetzt.
URL:https://www.taegi.ch/veranstaltungen-kalender/gf-training-ecw/2024-01-16/
LOCATION:Eisbahn\, Tägerhardstrasse 122\, Wettingen\, 5430\, Schweiz
CATEGORIES:Eisfeld
ATTACH;FMTTYPE=image/jpeg:https://www.taegi.ch/wp-content/uploads/Eisbahn_47.jpg
ORGANIZER;CN="T%C3%A4gi AG":MAILTO:info@taegi.ch
END:VEVENT
BEGIN:VEVENT
DTSTART;TZID=Europe/Zurich:20240117T164500
DTEND;TZID=Europe/Zurich:20240117T174500
DTSTAMP:20260421T161938
CREATED:20231110T091740Z
LAST-MODIFIED:20231110T120014Z
UID:10000249-1705509900-1705513500@www.taegi.ch
SUMMARY:GF | TRAINING Argovia Stars - HOCKEYSCHULE
DESCRIPTION:Das gedeckte Eisfeld ist durch das Training besetzt.
URL:https://www.taegi.ch/veranstaltungen-kalender/gf-training-argovia-stars-hockeyschule/2024-01-17/
LOCATION:Eisbahn\, Tägerhardstrasse 122\, Wettingen\, 5430\, Schweiz
CATEGORIES:Eisfeld
ATTACH;FMTTYPE=image/jpeg:https://www.taegi.ch/wp-content/uploads/Eisbahn_29.jpg
ORGANIZER;CN="T%C3%A4gi AG":MAILTO:info@taegi.ch
END:VEVENT
BEGIN:VEVENT
DTSTART;TZID=Europe/Zurich:20240117T180000
DTEND;TZID=Europe/Zurich:20240117T191500
DTSTAMP:20260421T161938
CREATED:20231006T080444Z
LAST-MODIFIED:20231110T120232Z
UID:10000133-1705514400-1705518900@www.taegi.ch
SUMMARY:GF | Training Argovia Stars - U13/U11 Top
DESCRIPTION:Das gedeckte Eisfeld ist durch das Training besetzt.
URL:https://www.taegi.ch/veranstaltungen-kalender/gf-training-argovia-stars-u13-u11-aarau/2024-01-17/
LOCATION:Eisbahn\, Tägerhardstrasse 122\, Wettingen\, 5430\, Schweiz
CATEGORIES:Eisfeld
ATTACH;FMTTYPE=image/jpeg:https://www.taegi.ch/wp-content/uploads/Eisbahn_29.jpg
ORGANIZER;CN="T%C3%A4gi AG":MAILTO:info@taegi.ch
END:VEVENT
BEGIN:VEVENT
DTSTART;TZID=Europe/Zurich:20240117T204500
DTEND;TZID=Europe/Zurich:20240117T221500
DTSTAMP:20260421T161938
CREATED:20231006T083638Z
LAST-MODIFIED:20231110T094253Z
UID:10000155-1705524300-1705529700@www.taegi.ch
SUMMARY:GF | Training Argovia Stars Senioren
DESCRIPTION:Das gedeckte Eisfeld ist durch das Training besetzt.
URL:https://www.taegi.ch/veranstaltungen-kalender/gf-training-argovia-stars-senioren-2/2024-01-17/
LOCATION:Eisbahn\, Tägerhardstrasse 122\, Wettingen\, 5430\, Schweiz
CATEGORIES:Eisfeld
ATTACH;FMTTYPE=image/jpeg:https://www.taegi.ch/wp-content/uploads/Eisbahn_29.jpg
ORGANIZER;CN="T%C3%A4gi AG":MAILTO:info@taegi.ch
END:VEVENT
BEGIN:VEVENT
DTSTART;TZID=Europe/Zurich:20240118T164500
DTEND;TZID=Europe/Zurich:20240118T174500
DTSTAMP:20260421T161938
CREATED:20231006T083814Z
LAST-MODIFIED:20231006T083836Z
UID:10000177-1705596300-1705599900@www.taegi.ch
SUMMARY:GF | Training Argovia Stars U13/U11
DESCRIPTION:Das gedeckte Eisfeld ist durch das Training besetzt.
URL:https://www.taegi.ch/veranstaltungen-kalender/gf-training-argovia-stars-u13-u11-2/2024-01-18/
LOCATION:Eisbahn\, Tägerhardstrasse 122\, Wettingen\, 5430\, Schweiz
CATEGORIES:Eisfeld
ATTACH;FMTTYPE=image/jpeg:https://www.taegi.ch/wp-content/uploads/Eisbahn_29.jpg
ORGANIZER;CN="T%C3%A4gi AG":MAILTO:info@taegi.ch
END:VEVENT
BEGIN:VEVENT
DTSTART;TZID=Europe/Zurich:20240118T193000
DTEND;TZID=Europe/Zurich:20240118T204500
DTSTAMP:20260421T161938
CREATED:20231110T120527Z
LAST-MODIFIED:20231110T123622Z
UID:10000273-1705606200-1705610700@www.taegi.ch
SUMMARY:GF | TRAINING Argovia Stars - 3. Liga
DESCRIPTION:Das gedeckte Eisfeld ist durch das Training besetzt.
URL:https://www.taegi.ch/veranstaltungen-kalender/gf-training-argovia-stars-3-liga-3/2024-01-18/
LOCATION:Eisbahn\, Tägerhardstrasse 122\, Wettingen\, 5430\, Schweiz
CATEGORIES:Eisfeld
ATTACH;FMTTYPE=image/jpeg:https://www.taegi.ch/wp-content/uploads/Eisbahn_29.jpg
ORGANIZER;CN="T%C3%A4gi AG":MAILTO:info@taegi.ch
END:VEVENT
BEGIN:VEVENT
DTSTART;TZID=Europe/Zurich:20240118T204500
DTEND;TZID=Europe/Zurich:20240118T214500
DTSTAMP:20260421T161938
CREATED:20231006T084729Z
LAST-MODIFIED:20231006T084729Z
UID:10000199-1705610700-1705614300@www.taegi.ch
SUMMARY:GF | Training Argovia Stars Senioren
DESCRIPTION:Das gedeckte Eisfeld ist durch das Training besetzt.
URL:https://www.taegi.ch/veranstaltungen-kalender/gf-training-argovia-stars-senioren-3/2024-01-18/
LOCATION:Eisbahn\, Tägerhardstrasse 122\, Wettingen\, 5430\, Schweiz
CATEGORIES:Eisfeld
ATTACH;FMTTYPE=image/jpeg:https://www.taegi.ch/wp-content/uploads/Eisbahn_29.jpg
ORGANIZER;CN="T%C3%A4gi AG":MAILTO:info@taegi.ch
END:VEVENT
BEGIN:VEVENT
DTSTART;TZID=Europe/Zurich:20240120T114500
DTEND;TZID=Europe/Zurich:20240120T131500
DTSTAMP:20260421T161938
CREATED:20231110T130114Z
LAST-MODIFIED:20231110T130114Z
UID:10000283-1705751100-1705756500@www.taegi.ch
SUMMARY:GF | Chneble - 11.45-13.15
DESCRIPTION:Das gedeckte Eisfeld ist durch das Training besetzt.
URL:https://www.taegi.ch/veranstaltungen-kalender/gf-chneble-11-45-13-15/
LOCATION:Eisbahn\, Tägerhardstrasse 122\, Wettingen\, 5430\, Schweiz
CATEGORIES:Chneble,Eisfeld
ATTACH;FMTTYPE=image/jpeg:https://www.taegi.ch/wp-content/uploads/Eisbahn_18.jpg
ORGANIZER;CN="T%C3%A4gi AG":MAILTO:info@taegi.ch
END:VEVENT
END:VCALENDAR