BEGIN:VCALENDAR
VERSION:2.0
PRODID:-//Tägi - Freizeit. Sport. Events. - ECPv6.15.17//NONSGML v1.0//EN
CALSCALE:GREGORIAN
METHOD:PUBLISH
X-WR-CALNAME:Tägi - Freizeit. Sport. Events.
X-ORIGINAL-URL:https://www.taegi.ch
X-WR-CALDESC:Veranstaltungen für Tägi - Freizeit. Sport. Events.
REFRESH-INTERVAL;VALUE=DURATION:PT1H
X-Robots-Tag:noindex
X-PUBLISHED-TTL:PT1H
BEGIN:VTIMEZONE
TZID:Europe/Zurich
BEGIN:DAYLIGHT
TZOFFSETFROM:+0100
TZOFFSETTO:+0200
TZNAME:CEST
DTSTART:20220327T010000
END:DAYLIGHT
BEGIN:STANDARD
TZOFFSETFROM:+0200
TZOFFSETTO:+0100
TZNAME:CET
DTSTART:20221030T010000
END:STANDARD
BEGIN:DAYLIGHT
TZOFFSETFROM:+0100
TZOFFSETTO:+0200
TZNAME:CEST
DTSTART:20230326T010000
END:DAYLIGHT
BEGIN:STANDARD
TZOFFSETFROM:+0200
TZOFFSETTO:+0100
TZNAME:CET
DTSTART:20231029T010000
END:STANDARD
BEGIN:DAYLIGHT
TZOFFSETFROM:+0100
TZOFFSETTO:+0200
TZNAME:CEST
DTSTART:20240331T010000
END:DAYLIGHT
BEGIN:STANDARD
TZOFFSETFROM:+0200
TZOFFSETTO:+0100
TZNAME:CET
DTSTART:20241027T010000
END:STANDARD
END:VTIMEZONE
BEGIN:VEVENT
DTSTART;TZID=Europe/Zurich:20231202T090000
DTEND;TZID=Europe/Zurich:20231202T104500
DTSTAMP:20260421T181534
CREATED:20231005T132123Z
LAST-MODIFIED:20231031T071755Z
UID:10000062-1701507600-1701513900@www.taegi.ch
SUMMARY:GF | Chneble
DESCRIPTION:Auf dem überdachten Eisfeld findet das öffentliche „Chneble“ statt!
URL:https://www.taegi.ch/veranstaltungen-kalender/chneble/2023-12-02/
LOCATION:Eisbahn\, Tägerhardstrasse 122\, Wettingen\, 5430\, Schweiz
CATEGORIES:Chneble,Eisfeld
ATTACH;FMTTYPE=image/jpeg:https://www.taegi.ch/wp-content/uploads/Eisbahn_18.jpg
ORGANIZER;CN="T%C3%A4gi AG":MAILTO:info@taegi.ch
END:VEVENT
BEGIN:VEVENT
DTSTART;TZID=Europe/Zurich:20231204T203000
DTEND;TZID=Europe/Zurich:20231204T213000
DTSTAMP:20260421T181534
CREATED:20231006T075501Z
LAST-MODIFIED:20231218T093735Z
UID:10000081-1701721800-1701725400@www.taegi.ch
SUMMARY:GF | Training Argovia Stars - Ladies
DESCRIPTION:Das gedeckte Eisfeld ist durch das Training besetzt.
URL:https://www.taegi.ch/veranstaltungen-kalender/gf-training-argovia-stars-ladies/2023-12-04/
LOCATION:Eisbahn\, Tägerhardstrasse 122\, Wettingen\, 5430\, Schweiz
CATEGORIES:Eisfeld
ATTACH;FMTTYPE=image/jpeg:https://www.taegi.ch/wp-content/uploads/Eisbahn_29.jpg
ORGANIZER;CN="T%C3%A4gi AG":MAILTO:info@taegi.ch
END:VEVENT
BEGIN:VEVENT
DTSTART;TZID=Europe/Zurich:20231205T164500
DTEND;TZID=Europe/Zurich:20231205T180000
DTSTAMP:20260421T181534
CREATED:20231006T075931Z
LAST-MODIFIED:20231110T120058Z
UID:10000104-1701794700-1701799200@www.taegi.ch
SUMMARY:GF | TRAINING Argovia Stars - U9
DESCRIPTION:Das gedeckte Eisfeld ist durch das Training besetzt.
URL:https://www.taegi.ch/veranstaltungen-kalender/gf-training-argovia-stars-u9/2023-12-05/
LOCATION:Eisbahn\, Tägerhardstrasse 122\, Wettingen\, 5430\, Schweiz
CATEGORIES:Eisfeld
ATTACH;FMTTYPE=image/jpeg:https://www.taegi.ch/wp-content/uploads/Eisbahn_29.jpg
ORGANIZER;CN="T%C3%A4gi AG":MAILTO:info@taegi.ch
END:VEVENT
BEGIN:VEVENT
DTSTART;TZID=Europe/Zurich:20231205T181500
DTEND;TZID=Europe/Zurich:20231205T201500
DTSTAMP:20260421T181534
CREATED:20231110T091325Z
LAST-MODIFIED:20231110T120146Z
UID:10000225-1701800100-1701807300@www.taegi.ch
SUMMARY:GF | TRAINING ECW
DESCRIPTION:Das gedeckte Eisfeld ist durch das Training besetzt.
URL:https://www.taegi.ch/veranstaltungen-kalender/gf-training-ecw/2023-12-05/
LOCATION:Eisbahn\, Tägerhardstrasse 122\, Wettingen\, 5430\, Schweiz
CATEGORIES:Eisfeld
ATTACH;FMTTYPE=image/jpeg:https://www.taegi.ch/wp-content/uploads/Eisbahn_47.jpg
ORGANIZER;CN="T%C3%A4gi AG":MAILTO:info@taegi.ch
END:VEVENT
BEGIN:VEVENT
DTSTART;TZID=Europe/Zurich:20231206T164500
DTEND;TZID=Europe/Zurich:20231206T174500
DTSTAMP:20260421T181534
CREATED:20231110T091740Z
LAST-MODIFIED:20231110T120014Z
UID:10000243-1701881100-1701884700@www.taegi.ch
SUMMARY:GF | TRAINING Argovia Stars - HOCKEYSCHULE
DESCRIPTION:Das gedeckte Eisfeld ist durch das Training besetzt.
URL:https://www.taegi.ch/veranstaltungen-kalender/gf-training-argovia-stars-hockeyschule/2023-12-06/
LOCATION:Eisbahn\, Tägerhardstrasse 122\, Wettingen\, 5430\, Schweiz
CATEGORIES:Eisfeld
ATTACH;FMTTYPE=image/jpeg:https://www.taegi.ch/wp-content/uploads/Eisbahn_29.jpg
ORGANIZER;CN="T%C3%A4gi AG":MAILTO:info@taegi.ch
END:VEVENT
BEGIN:VEVENT
DTSTART;TZID=Europe/Zurich:20231206T180000
DTEND;TZID=Europe/Zurich:20231206T191500
DTSTAMP:20260421T181534
CREATED:20231006T080444Z
LAST-MODIFIED:20231110T120232Z
UID:10000127-1701885600-1701890100@www.taegi.ch
SUMMARY:GF | Training Argovia Stars - U13/U11 Top
DESCRIPTION:Das gedeckte Eisfeld ist durch das Training besetzt.
URL:https://www.taegi.ch/veranstaltungen-kalender/gf-training-argovia-stars-u13-u11-aarau/2023-12-06/
LOCATION:Eisbahn\, Tägerhardstrasse 122\, Wettingen\, 5430\, Schweiz
CATEGORIES:Eisfeld
ATTACH;FMTTYPE=image/jpeg:https://www.taegi.ch/wp-content/uploads/Eisbahn_29.jpg
ORGANIZER;CN="T%C3%A4gi AG":MAILTO:info@taegi.ch
END:VEVENT
BEGIN:VEVENT
DTSTART;TZID=Europe/Zurich:20231206T204500
DTEND;TZID=Europe/Zurich:20231206T221500
DTSTAMP:20260421T181534
CREATED:20231006T083638Z
LAST-MODIFIED:20231110T094253Z
UID:10000149-1701895500-1701900900@www.taegi.ch
SUMMARY:GF | Training Argovia Stars Senioren
DESCRIPTION:Das gedeckte Eisfeld ist durch das Training besetzt.
URL:https://www.taegi.ch/veranstaltungen-kalender/gf-training-argovia-stars-senioren-2/2023-12-06/
LOCATION:Eisbahn\, Tägerhardstrasse 122\, Wettingen\, 5430\, Schweiz
CATEGORIES:Eisfeld
ATTACH;FMTTYPE=image/jpeg:https://www.taegi.ch/wp-content/uploads/Eisbahn_29.jpg
ORGANIZER;CN="T%C3%A4gi AG":MAILTO:info@taegi.ch
END:VEVENT
BEGIN:VEVENT
DTSTART;TZID=Europe/Zurich:20231207T164500
DTEND;TZID=Europe/Zurich:20231207T174500
DTSTAMP:20260421T181534
CREATED:20231006T083814Z
LAST-MODIFIED:20231006T083836Z
UID:10000171-1701967500-1701971100@www.taegi.ch
SUMMARY:GF | Training Argovia Stars U13/U11
DESCRIPTION:Das gedeckte Eisfeld ist durch das Training besetzt.
URL:https://www.taegi.ch/veranstaltungen-kalender/gf-training-argovia-stars-u13-u11-2/2023-12-07/
LOCATION:Eisbahn\, Tägerhardstrasse 122\, Wettingen\, 5430\, Schweiz
CATEGORIES:Eisfeld
ATTACH;FMTTYPE=image/jpeg:https://www.taegi.ch/wp-content/uploads/Eisbahn_29.jpg
ORGANIZER;CN="T%C3%A4gi AG":MAILTO:info@taegi.ch
END:VEVENT
BEGIN:VEVENT
DTSTART;TZID=Europe/Zurich:20231207T193000
DTEND;TZID=Europe/Zurich:20231207T204500
DTSTAMP:20260421T181534
CREATED:20231110T120527Z
LAST-MODIFIED:20231110T123622Z
UID:10000267-1701977400-1701981900@www.taegi.ch
SUMMARY:GF | TRAINING Argovia Stars - 3. Liga
DESCRIPTION:Das gedeckte Eisfeld ist durch das Training besetzt.
URL:https://www.taegi.ch/veranstaltungen-kalender/gf-training-argovia-stars-3-liga-3/2023-12-07/
LOCATION:Eisbahn\, Tägerhardstrasse 122\, Wettingen\, 5430\, Schweiz
CATEGORIES:Eisfeld
ATTACH;FMTTYPE=image/jpeg:https://www.taegi.ch/wp-content/uploads/Eisbahn_29.jpg
ORGANIZER;CN="T%C3%A4gi AG":MAILTO:info@taegi.ch
END:VEVENT
BEGIN:VEVENT
DTSTART;TZID=Europe/Zurich:20231207T204500
DTEND;TZID=Europe/Zurich:20231207T214500
DTSTAMP:20260421T181534
CREATED:20231006T084729Z
LAST-MODIFIED:20231006T084729Z
UID:10000193-1701981900-1701985500@www.taegi.ch
SUMMARY:GF | Training Argovia Stars Senioren
DESCRIPTION:Das gedeckte Eisfeld ist durch das Training besetzt.
URL:https://www.taegi.ch/veranstaltungen-kalender/gf-training-argovia-stars-senioren-3/2023-12-07/
LOCATION:Eisbahn\, Tägerhardstrasse 122\, Wettingen\, 5430\, Schweiz
CATEGORIES:Eisfeld
ATTACH;FMTTYPE=image/jpeg:https://www.taegi.ch/wp-content/uploads/Eisbahn_29.jpg
ORGANIZER;CN="T%C3%A4gi AG":MAILTO:info@taegi.ch
END:VEVENT
BEGIN:VEVENT
DTSTART;TZID=Europe/Zurich:20231209T160000
DTEND;TZID=Europe/Zurich:20231209T180000
DTSTAMP:20260421T181534
CREATED:20231110T124121Z
LAST-MODIFIED:20231110T124303Z
UID:10000281-1702137600-1702144800@www.taegi.ch
SUMMARY:GF | Chneble - 16.00-18.00
DESCRIPTION:Das gedeckte Eisfeld ist durch das Training besetzt.
URL:https://www.taegi.ch/veranstaltungen-kalender/gf-chneble-16-00-18-00/
LOCATION:Eisbahn\, Tägerhardstrasse 122\, Wettingen\, 5430\, Schweiz
CATEGORIES:Chneble,Eisfeld
ATTACH;FMTTYPE=image/jpeg:https://www.taegi.ch/wp-content/uploads/Eisbahn_18.jpg
ORGANIZER;CN="T%C3%A4gi AG":MAILTO:info@taegi.ch
END:VEVENT
BEGIN:VEVENT
DTSTART;TZID=Europe/Zurich:20231211T203000
DTEND;TZID=Europe/Zurich:20231211T213000
DTSTAMP:20260421T181534
CREATED:20231006T075501Z
LAST-MODIFIED:20231218T093735Z
UID:10000082-1702326600-1702330200@www.taegi.ch
SUMMARY:GF | Training Argovia Stars - Ladies
DESCRIPTION:Das gedeckte Eisfeld ist durch das Training besetzt.
URL:https://www.taegi.ch/veranstaltungen-kalender/gf-training-argovia-stars-ladies/2023-12-11/
LOCATION:Eisbahn\, Tägerhardstrasse 122\, Wettingen\, 5430\, Schweiz
CATEGORIES:Eisfeld
ATTACH;FMTTYPE=image/jpeg:https://www.taegi.ch/wp-content/uploads/Eisbahn_29.jpg
ORGANIZER;CN="T%C3%A4gi AG":MAILTO:info@taegi.ch
END:VEVENT
BEGIN:VEVENT
DTSTART;TZID=Europe/Zurich:20231212T164500
DTEND;TZID=Europe/Zurich:20231212T180000
DTSTAMP:20260421T181534
CREATED:20231006T075931Z
LAST-MODIFIED:20231110T120058Z
UID:10000105-1702399500-1702404000@www.taegi.ch
SUMMARY:GF | TRAINING Argovia Stars - U9
DESCRIPTION:Das gedeckte Eisfeld ist durch das Training besetzt.
URL:https://www.taegi.ch/veranstaltungen-kalender/gf-training-argovia-stars-u9/2023-12-12/
LOCATION:Eisbahn\, Tägerhardstrasse 122\, Wettingen\, 5430\, Schweiz
CATEGORIES:Eisfeld
ATTACH;FMTTYPE=image/jpeg:https://www.taegi.ch/wp-content/uploads/Eisbahn_29.jpg
ORGANIZER;CN="T%C3%A4gi AG":MAILTO:info@taegi.ch
END:VEVENT
BEGIN:VEVENT
DTSTART;TZID=Europe/Zurich:20231212T181500
DTEND;TZID=Europe/Zurich:20231212T201500
DTSTAMP:20260421T181534
CREATED:20231110T091325Z
LAST-MODIFIED:20231110T120146Z
UID:10000226-1702404900-1702412100@www.taegi.ch
SUMMARY:GF | TRAINING ECW
DESCRIPTION:Das gedeckte Eisfeld ist durch das Training besetzt.
URL:https://www.taegi.ch/veranstaltungen-kalender/gf-training-ecw/2023-12-12/
LOCATION:Eisbahn\, Tägerhardstrasse 122\, Wettingen\, 5430\, Schweiz
CATEGORIES:Eisfeld
ATTACH;FMTTYPE=image/jpeg:https://www.taegi.ch/wp-content/uploads/Eisbahn_47.jpg
ORGANIZER;CN="T%C3%A4gi AG":MAILTO:info@taegi.ch
END:VEVENT
BEGIN:VEVENT
DTSTART;TZID=Europe/Zurich:20231213T164500
DTEND;TZID=Europe/Zurich:20231213T174500
DTSTAMP:20260421T181534
CREATED:20231110T091740Z
LAST-MODIFIED:20231110T120014Z
UID:10000244-1702485900-1702489500@www.taegi.ch
SUMMARY:GF | TRAINING Argovia Stars - HOCKEYSCHULE
DESCRIPTION:Das gedeckte Eisfeld ist durch das Training besetzt.
URL:https://www.taegi.ch/veranstaltungen-kalender/gf-training-argovia-stars-hockeyschule/2023-12-13/
LOCATION:Eisbahn\, Tägerhardstrasse 122\, Wettingen\, 5430\, Schweiz
CATEGORIES:Eisfeld
ATTACH;FMTTYPE=image/jpeg:https://www.taegi.ch/wp-content/uploads/Eisbahn_29.jpg
ORGANIZER;CN="T%C3%A4gi AG":MAILTO:info@taegi.ch
END:VEVENT
BEGIN:VEVENT
DTSTART;TZID=Europe/Zurich:20231213T180000
DTEND;TZID=Europe/Zurich:20231213T191500
DTSTAMP:20260421T181534
CREATED:20231006T080444Z
LAST-MODIFIED:20231110T120232Z
UID:10000128-1702490400-1702494900@www.taegi.ch
SUMMARY:GF | Training Argovia Stars - U13/U11 Top
DESCRIPTION:Das gedeckte Eisfeld ist durch das Training besetzt.
URL:https://www.taegi.ch/veranstaltungen-kalender/gf-training-argovia-stars-u13-u11-aarau/2023-12-13/
LOCATION:Eisbahn\, Tägerhardstrasse 122\, Wettingen\, 5430\, Schweiz
CATEGORIES:Eisfeld
ATTACH;FMTTYPE=image/jpeg:https://www.taegi.ch/wp-content/uploads/Eisbahn_29.jpg
ORGANIZER;CN="T%C3%A4gi AG":MAILTO:info@taegi.ch
END:VEVENT
BEGIN:VEVENT
DTSTART;TZID=Europe/Zurich:20231213T204500
DTEND;TZID=Europe/Zurich:20231213T221500
DTSTAMP:20260421T181534
CREATED:20231006T083638Z
LAST-MODIFIED:20231110T094253Z
UID:10000150-1702500300-1702505700@www.taegi.ch
SUMMARY:GF | Training Argovia Stars Senioren
DESCRIPTION:Das gedeckte Eisfeld ist durch das Training besetzt.
URL:https://www.taegi.ch/veranstaltungen-kalender/gf-training-argovia-stars-senioren-2/2023-12-13/
LOCATION:Eisbahn\, Tägerhardstrasse 122\, Wettingen\, 5430\, Schweiz
CATEGORIES:Eisfeld
ATTACH;FMTTYPE=image/jpeg:https://www.taegi.ch/wp-content/uploads/Eisbahn_29.jpg
ORGANIZER;CN="T%C3%A4gi AG":MAILTO:info@taegi.ch
END:VEVENT
BEGIN:VEVENT
DTSTART;TZID=Europe/Zurich:20231214T164500
DTEND;TZID=Europe/Zurich:20231214T174500
DTSTAMP:20260421T181534
CREATED:20231006T083814Z
LAST-MODIFIED:20231006T083836Z
UID:10000172-1702572300-1702575900@www.taegi.ch
SUMMARY:GF | Training Argovia Stars U13/U11
DESCRIPTION:Das gedeckte Eisfeld ist durch das Training besetzt.
URL:https://www.taegi.ch/veranstaltungen-kalender/gf-training-argovia-stars-u13-u11-2/2023-12-14/
LOCATION:Eisbahn\, Tägerhardstrasse 122\, Wettingen\, 5430\, Schweiz
CATEGORIES:Eisfeld
ATTACH;FMTTYPE=image/jpeg:https://www.taegi.ch/wp-content/uploads/Eisbahn_29.jpg
ORGANIZER;CN="T%C3%A4gi AG":MAILTO:info@taegi.ch
END:VEVENT
BEGIN:VEVENT
DTSTART;TZID=Europe/Zurich:20231214T193000
DTEND;TZID=Europe/Zurich:20231214T204500
DTSTAMP:20260421T181534
CREATED:20231110T120527Z
LAST-MODIFIED:20231110T123622Z
UID:10000268-1702582200-1702586700@www.taegi.ch
SUMMARY:GF | TRAINING Argovia Stars - 3. Liga
DESCRIPTION:Das gedeckte Eisfeld ist durch das Training besetzt.
URL:https://www.taegi.ch/veranstaltungen-kalender/gf-training-argovia-stars-3-liga-3/2023-12-14/
LOCATION:Eisbahn\, Tägerhardstrasse 122\, Wettingen\, 5430\, Schweiz
CATEGORIES:Eisfeld
ATTACH;FMTTYPE=image/jpeg:https://www.taegi.ch/wp-content/uploads/Eisbahn_29.jpg
ORGANIZER;CN="T%C3%A4gi AG":MAILTO:info@taegi.ch
END:VEVENT
BEGIN:VEVENT
DTSTART;TZID=Europe/Zurich:20231214T204500
DTEND;TZID=Europe/Zurich:20231214T214500
DTSTAMP:20260421T181534
CREATED:20231006T084729Z
LAST-MODIFIED:20231006T084729Z
UID:10000194-1702586700-1702590300@www.taegi.ch
SUMMARY:GF | Training Argovia Stars Senioren
DESCRIPTION:Das gedeckte Eisfeld ist durch das Training besetzt.
URL:https://www.taegi.ch/veranstaltungen-kalender/gf-training-argovia-stars-senioren-3/2023-12-14/
LOCATION:Eisbahn\, Tägerhardstrasse 122\, Wettingen\, 5430\, Schweiz
CATEGORIES:Eisfeld
ATTACH;FMTTYPE=image/jpeg:https://www.taegi.ch/wp-content/uploads/Eisbahn_29.jpg
ORGANIZER;CN="T%C3%A4gi AG":MAILTO:info@taegi.ch
END:VEVENT
BEGIN:VEVENT
DTSTART;TZID=Europe/Zurich:20231218T180000
DTEND;TZID=Europe/Zurich:20231218T220000
DTSTAMP:20260421T181534
CREATED:20231218T093835Z
LAST-MODIFIED:20231218T093835Z
UID:10000312-1702922400-1702936800@www.taegi.ch
SUMMARY:Eisfeld für Öffentlichkeit gesperrt
DESCRIPTION:Heute schliesst das Tägi ausnahmsweise um 18 Uhr.
URL:https://www.taegi.ch/veranstaltungen-kalender/eisfeld-fuer-oeffentlichkeit-gesperrt/
LOCATION:Eisbahn\, Tägerhardstrasse 122\, Wettingen\, 5430\, Schweiz
CATEGORIES:Eisfeld
ORGANIZER;CN="T%C3%A4gi AG":MAILTO:info@taegi.ch
END:VEVENT
BEGIN:VEVENT
DTSTART;TZID=Europe/Zurich:20231219T164500
DTEND;TZID=Europe/Zurich:20231219T180000
DTSTAMP:20260421T181534
CREATED:20231006T075931Z
LAST-MODIFIED:20231110T120058Z
UID:10000106-1703004300-1703008800@www.taegi.ch
SUMMARY:GF | TRAINING Argovia Stars - U9
DESCRIPTION:Das gedeckte Eisfeld ist durch das Training besetzt.
URL:https://www.taegi.ch/veranstaltungen-kalender/gf-training-argovia-stars-u9/2023-12-19/
LOCATION:Eisbahn\, Tägerhardstrasse 122\, Wettingen\, 5430\, Schweiz
CATEGORIES:Eisfeld
ATTACH;FMTTYPE=image/jpeg:https://www.taegi.ch/wp-content/uploads/Eisbahn_29.jpg
ORGANIZER;CN="T%C3%A4gi AG":MAILTO:info@taegi.ch
END:VEVENT
BEGIN:VEVENT
DTSTART;TZID=Europe/Zurich:20231219T181500
DTEND;TZID=Europe/Zurich:20231219T201500
DTSTAMP:20260421T181534
CREATED:20231110T091325Z
LAST-MODIFIED:20231110T120146Z
UID:10000227-1703009700-1703016900@www.taegi.ch
SUMMARY:GF | TRAINING ECW
DESCRIPTION:Das gedeckte Eisfeld ist durch das Training besetzt.
URL:https://www.taegi.ch/veranstaltungen-kalender/gf-training-ecw/2023-12-19/
LOCATION:Eisbahn\, Tägerhardstrasse 122\, Wettingen\, 5430\, Schweiz
CATEGORIES:Eisfeld
ATTACH;FMTTYPE=image/jpeg:https://www.taegi.ch/wp-content/uploads/Eisbahn_47.jpg
ORGANIZER;CN="T%C3%A4gi AG":MAILTO:info@taegi.ch
END:VEVENT
BEGIN:VEVENT
DTSTART;TZID=Europe/Zurich:20231220T164500
DTEND;TZID=Europe/Zurich:20231220T174500
DTSTAMP:20260421T181534
CREATED:20231110T091740Z
LAST-MODIFIED:20231110T120014Z
UID:10000245-1703090700-1703094300@www.taegi.ch
SUMMARY:GF | TRAINING Argovia Stars - HOCKEYSCHULE
DESCRIPTION:Das gedeckte Eisfeld ist durch das Training besetzt.
URL:https://www.taegi.ch/veranstaltungen-kalender/gf-training-argovia-stars-hockeyschule/2023-12-20/
LOCATION:Eisbahn\, Tägerhardstrasse 122\, Wettingen\, 5430\, Schweiz
CATEGORIES:Eisfeld
ATTACH;FMTTYPE=image/jpeg:https://www.taegi.ch/wp-content/uploads/Eisbahn_29.jpg
ORGANIZER;CN="T%C3%A4gi AG":MAILTO:info@taegi.ch
END:VEVENT
BEGIN:VEVENT
DTSTART;TZID=Europe/Zurich:20231220T180000
DTEND;TZID=Europe/Zurich:20231220T191500
DTSTAMP:20260421T181534
CREATED:20231006T080444Z
LAST-MODIFIED:20231110T120232Z
UID:10000129-1703095200-1703099700@www.taegi.ch
SUMMARY:GF | Training Argovia Stars - U13/U11 Top
DESCRIPTION:Das gedeckte Eisfeld ist durch das Training besetzt.
URL:https://www.taegi.ch/veranstaltungen-kalender/gf-training-argovia-stars-u13-u11-aarau/2023-12-20/
LOCATION:Eisbahn\, Tägerhardstrasse 122\, Wettingen\, 5430\, Schweiz
CATEGORIES:Eisfeld
ATTACH;FMTTYPE=image/jpeg:https://www.taegi.ch/wp-content/uploads/Eisbahn_29.jpg
ORGANIZER;CN="T%C3%A4gi AG":MAILTO:info@taegi.ch
END:VEVENT
BEGIN:VEVENT
DTSTART;TZID=Europe/Zurich:20231220T204500
DTEND;TZID=Europe/Zurich:20231220T221500
DTSTAMP:20260421T181534
CREATED:20231006T083638Z
LAST-MODIFIED:20231110T094253Z
UID:10000151-1703105100-1703110500@www.taegi.ch
SUMMARY:GF | Training Argovia Stars Senioren
DESCRIPTION:Das gedeckte Eisfeld ist durch das Training besetzt.
URL:https://www.taegi.ch/veranstaltungen-kalender/gf-training-argovia-stars-senioren-2/2023-12-20/
LOCATION:Eisbahn\, Tägerhardstrasse 122\, Wettingen\, 5430\, Schweiz
CATEGORIES:Eisfeld
ATTACH;FMTTYPE=image/jpeg:https://www.taegi.ch/wp-content/uploads/Eisbahn_29.jpg
ORGANIZER;CN="T%C3%A4gi AG":MAILTO:info@taegi.ch
END:VEVENT
BEGIN:VEVENT
DTSTART;TZID=Europe/Zurich:20231221T164500
DTEND;TZID=Europe/Zurich:20231221T174500
DTSTAMP:20260421T181534
CREATED:20231006T083814Z
LAST-MODIFIED:20231006T083836Z
UID:10000173-1703177100-1703180700@www.taegi.ch
SUMMARY:GF | Training Argovia Stars U13/U11
DESCRIPTION:Das gedeckte Eisfeld ist durch das Training besetzt.
URL:https://www.taegi.ch/veranstaltungen-kalender/gf-training-argovia-stars-u13-u11-2/2023-12-21/
LOCATION:Eisbahn\, Tägerhardstrasse 122\, Wettingen\, 5430\, Schweiz
CATEGORIES:Eisfeld
ATTACH;FMTTYPE=image/jpeg:https://www.taegi.ch/wp-content/uploads/Eisbahn_29.jpg
ORGANIZER;CN="T%C3%A4gi AG":MAILTO:info@taegi.ch
END:VEVENT
BEGIN:VEVENT
DTSTART;TZID=Europe/Zurich:20231221T193000
DTEND;TZID=Europe/Zurich:20231221T204500
DTSTAMP:20260421T181534
CREATED:20231110T120527Z
LAST-MODIFIED:20231110T123622Z
UID:10000269-1703187000-1703191500@www.taegi.ch
SUMMARY:GF | TRAINING Argovia Stars - 3. Liga
DESCRIPTION:Das gedeckte Eisfeld ist durch das Training besetzt.
URL:https://www.taegi.ch/veranstaltungen-kalender/gf-training-argovia-stars-3-liga-3/2023-12-21/
LOCATION:Eisbahn\, Tägerhardstrasse 122\, Wettingen\, 5430\, Schweiz
CATEGORIES:Eisfeld
ATTACH;FMTTYPE=image/jpeg:https://www.taegi.ch/wp-content/uploads/Eisbahn_29.jpg
ORGANIZER;CN="T%C3%A4gi AG":MAILTO:info@taegi.ch
END:VEVENT
BEGIN:VEVENT
DTSTART;TZID=Europe/Zurich:20231221T204500
DTEND;TZID=Europe/Zurich:20231221T214500
DTSTAMP:20260421T181534
CREATED:20231006T084729Z
LAST-MODIFIED:20231006T084729Z
UID:10000195-1703191500-1703195100@www.taegi.ch
SUMMARY:GF | Training Argovia Stars Senioren
DESCRIPTION:Das gedeckte Eisfeld ist durch das Training besetzt.
URL:https://www.taegi.ch/veranstaltungen-kalender/gf-training-argovia-stars-senioren-3/2023-12-21/
LOCATION:Eisbahn\, Tägerhardstrasse 122\, Wettingen\, 5430\, Schweiz
CATEGORIES:Eisfeld
ATTACH;FMTTYPE=image/jpeg:https://www.taegi.ch/wp-content/uploads/Eisbahn_29.jpg
ORGANIZER;CN="T%C3%A4gi AG":MAILTO:info@taegi.ch
END:VEVENT
BEGIN:VEVENT
DTSTART;TZID=Europe/Zurich:20231223T090000
DTEND;TZID=Europe/Zurich:20231223T104500
DTSTAMP:20260421T181534
CREATED:20231005T132123Z
LAST-MODIFIED:20231031T071755Z
UID:10000063-1703322000-1703328300@www.taegi.ch
SUMMARY:GF | Chneble
DESCRIPTION:Auf dem überdachten Eisfeld findet das öffentliche „Chneble“ statt!
URL:https://www.taegi.ch/veranstaltungen-kalender/chneble/2023-12-23/
LOCATION:Eisbahn\, Tägerhardstrasse 122\, Wettingen\, 5430\, Schweiz
CATEGORIES:Chneble,Eisfeld
ATTACH;FMTTYPE=image/jpeg:https://www.taegi.ch/wp-content/uploads/Eisbahn_18.jpg
ORGANIZER;CN="T%C3%A4gi AG":MAILTO:info@taegi.ch
END:VEVENT
END:VCALENDAR